BEGIN:VCALENDAR
VERSION:2.0
PRODID:-//Club-C2S - ECPv6.15.20//NONSGML v1.0//EN
CALSCALE:GREGORIAN
METHOD:PUBLISH
X-WR-CALNAME:Club-C2S
X-ORIGINAL-URL:https://www.club-c2s.org
X-WR-CALDESC:Évènements pour Club-C2S
REFRESH-INTERVAL;VALUE=DURATION:PT1H
X-Robots-Tag:noindex
X-PUBLISHED-TTL:PT1H
BEGIN:VTIMEZONE
TZID:Europe/Paris
BEGIN:DAYLIGHT
TZOFFSETFROM:+0100
TZOFFSETTO:+0200
TZNAME:CEST
DTSTART:20230326T010000
END:DAYLIGHT
BEGIN:STANDARD
TZOFFSETFROM:+0200
TZOFFSETTO:+0100
TZNAME:CET
DTSTART:20231029T010000
END:STANDARD
BEGIN:DAYLIGHT
TZOFFSETFROM:+0100
TZOFFSETTO:+0200
TZNAME:CEST
DTSTART:20240331T010000
END:DAYLIGHT
BEGIN:STANDARD
TZOFFSETFROM:+0200
TZOFFSETTO:+0100
TZNAME:CET
DTSTART:20241027T010000
END:STANDARD
BEGIN:DAYLIGHT
TZOFFSETFROM:+0100
TZOFFSETTO:+0200
TZNAME:CEST
DTSTART:20250330T010000
END:DAYLIGHT
BEGIN:STANDARD
TZOFFSETFROM:+0200
TZOFFSETTO:+0100
TZNAME:CET
DTSTART:20251026T010000
END:STANDARD
END:VTIMEZONE
BEGIN:VEVENT
DTSTART;TZID=Europe/Paris:20240602T080000
DTEND;TZID=Europe/Paris:20240602T170000
DTSTAMP:20260425T024033
CREATED:20240503T135031Z
LAST-MODIFIED:20240503T135033Z
UID:6829-1717315200-1717347600@www.club-c2s.org
SUMMARY:U17 - GRAND PRIX DE SARRAS PRIX GARAGE BOTTET BILLON dimanche 2 juin 2024 SARRAS ST VALLIER CYCLISMEU17et Femmes J SSARRAS
DESCRIPTION:https://framadate.org/peKRMb3vDgCH5Mky \n\n\n\nDESCRIPTION  \n\n\n\nINFORMATIONS ET RESULTATS \n\n\n\nGRAND PRIX DE SARRAS [07] SARRAS ST VALLIER CYCLISME  \n\n\n\nCircuit: 27km à effectuer 2 fois distance 54km \n\n\n\nDossard: 12h30 – 18 Avenue des Cévennes \n\n\n\nDépart: 14h00
URL:https://www.club-c2s.org/event/u17-grand-prix-de-sarras-prix-garage-bottet-billon-dimanche-2-juin-2024-sarras-st-vallier-cyclismeu17et-femmes-j-ssarras/
END:VEVENT
BEGIN:VEVENT
DTSTART;TZID=Europe/Paris:20240602T080000
DTEND;TZID=Europe/Paris:20240602T170000
DTSTAMP:20260425T024033
CREATED:20240503T135251Z
LAST-MODIFIED:20240503T135253Z
UID:6831-1717315200-1717347600@www.club-c2s.org
SUMMARY:U15 ET FEMMES M/C - GRAND PRIX DE SARRAS PRIX GARAGE BOTTET BILLON dimanche 2 juin 2024 SARRAS ST VALLIER CYCLISMEU15 et Femmes U15 U17SARRAS
DESCRIPTION:https://framadate.org/peKRMb3vDgCH5Mky \n\n\n\nDESCRIPTION  \n\n\n\nINFORMATIONS ET RESULTATS \n\n\n\nGRAND PRIX DE SARRAS [07] SARRAS ST VALLIER CYCLISME \n\n\n\nCircuit: 27km à effectuer 1 fois \n\n\n\nDossard: 12h30 – 18 Avenue des Cévennes \n\n\n\nDépart: 14h10
URL:https://www.club-c2s.org/event/u15-et-femmes-m-c-grand-prix-de-sarras-prix-garage-bottet-billon-dimanche-2-juin-2024-sarras-st-vallier-cyclismeu15-et-femmes-u15-u17sarras/
END:VEVENT
BEGIN:VEVENT
DTSTART;TZID=Europe/Paris:20240608T080000
DTEND;TZID=Europe/Paris:20240608T170000
DTSTAMP:20260425T024033
CREATED:20240515T153605Z
LAST-MODIFIED:20240515T153609Z
UID:6840-1717833600-1717866000@www.club-c2s.org
SUMMARY:TOUTES CATÉGORIES - COUPE AUVERGNE RHONE-ALPES EYBENS VELODROME samedi 8 juin 2024 U.C PONTCHARRA Toutes catégories EYBENS
DESCRIPTION:https://framadate.org/aNFxoFvD2oIGBTAC \n\n\n\nDESCRIPTION  \n\n\n\nINFORMATIONS ET RESULTATS \n\n\n\nde U11 à Seniors \n\n\n\nU11 courses d’initiation de U13 à open et feminines  Scratch\, course aux points\, eliminationDossards 12H30 au vélodrome d’Eybens \n\n\n\nEpreuves 13H30
URL:https://www.club-c2s.org/event/toutes-categories-coupe-auvergne-rhone-alpes-eybens-velodrome-samedi-8-juin-2024-u-c-pontcharra-toutes-categories-eybens/
END:VEVENT
BEGIN:VEVENT
DTSTART;TZID=Europe/Paris:20240608T080000
DTEND;TZID=Europe/Paris:20240608T170000
DTSTAMP:20260425T024033
CREATED:20240602T173739Z
LAST-MODIFIED:20240602T173739Z
UID:6941-1717833600-1717866000@www.club-c2s.org
SUMMARY:  
DESCRIPTION:ECOLE DE CYCLISME – RENCONTRE DES ECOLES DE CYCLISME DE SECHERAS samedi 8 juin 2024U.C. TAIN TOURNONEcoles de cyclismeSECHERAS \n\n\n\nhttps://framadate.org/N7hlgOLz7tRVN4hi \n\n\n\nDESCRIPTION  \n\n\n\n INFORMATIONS ET RESULTATS \n\n\n\nFINALE DU TROPHEE DROME ARDECHE DES ECOLES DE CYCLISME \n\n\n\nOuvert aux coureurs de tous départements \n\n\n\nDOSSARDS : 10h00 à 10h45 Acienne Ecole \n\n\n\nDEPART : 11h00
URL:https://www.club-c2s.org/event/6941/
END:VEVENT
BEGIN:VEVENT
DTSTART;TZID=Europe/Paris:20240608T080000
DTEND;TZID=Europe/Paris:20240608T170000
DTSTAMP:20260425T024033
CREATED:20240602T174719Z
LAST-MODIFIED:20240602T174719Z
UID:6944-1717833600-1717866000@www.club-c2s.org
SUMMARY:FINALE DU TROPHEE DROME ARDECHE DES ECOLES DE CYCLISME
DESCRIPTION:https://framadate.org/N7hlgOLz7tRVN4hi \n\n\n\nOuvert aux coureurs de tous départements \n\n\n\nDOSSARDS : 10h00 à 10h45 Acienne Ecole \n\n\n\nDEPART : 11h00
URL:https://www.club-c2s.org/event/finale-du-trophee-drome-ardeche-des-ecoles-de-cyclisme/
END:VEVENT
BEGIN:VEVENT
DTSTART;TZID=Europe/Paris:20240609T080000
DTEND;TZID=Europe/Paris:20240609T170000
DTSTAMP:20260425T024033
CREATED:20240522T081516Z
LAST-MODIFIED:20240522T081523Z
UID:6858-1717920000-1717952400@www.club-c2s.org
SUMMARY:U17 - PRIX DE MONTMEYRAN dimanche 9 juin 2024U.C. MONTMEYRAN VALENCE U17et Femmes JSMONTMEYRAN
DESCRIPTION:https://framadate.org/6VsW8X6avrr8N1U2 \n\n\n\nDESCRIPTION  \n\n\n\nINFORMATIONS ET RESULTATS \n\n\n\nGRAND PRIX DE MONTMEYRAN [26]: UC Montmeyran U17 \n\n\n\ndossards à 9h30 et Départ à 10h30 Chemin de Loye\, à Montmeyran   \n\n\n\n9 tours pour 64 km.
URL:https://www.club-c2s.org/event/u17-prix-de-montmeyran-dimanche-9-juin-2024u-c-montmeyran-valence-u17et-femmes-jsmontmeyran/
END:VEVENT
BEGIN:VEVENT
DTSTART;TZID=Europe/Paris:20240609T080000
DTEND;TZID=Europe/Paris:20240609T170000
DTSTAMP:20260425T024033
CREATED:20240522T081714Z
LAST-MODIFIED:20240522T081718Z
UID:6860-1717920000-1717952400@www.club-c2s.org
SUMMARY:U15 - PRIX DE MONTMEYRAN dimanche 9 juin 2024U.C. MONTMEYRAN VALENCE U15 et Femmes U15 U17 MONTMEYRAN
DESCRIPTION:https://framadate.org/6VsW8X6avrr8N1U2 \n\n\n\n \n\n\n\nDESCRIPTION  \n\n\n\nINFORMATIONS ET RESULTATS \n\n\n\nGRAND PRIX DE MONTMEYRAN [26]: UC Montmeyran U15 \n\n\n\ndossards à 7h30 et Départ à 8h30. Chemin de Loye\, à Montmeyran   \n\n\n\n5 tours pour 35\,5 km
URL:https://www.club-c2s.org/event/u15-prix-de-montmeyran-dimanche-9-juin-2024u-c-montmeyran-valence-u15-et-femmes-u15-u17-montmeyran/
END:VEVENT
BEGIN:VEVENT
DTSTART;TZID=Europe/Paris:20240609T080000
DTEND;TZID=Europe/Paris:20240609T170000
DTSTAMP:20260425T024033
CREATED:20240602T173416Z
LAST-MODIFIED:20240602T193054Z
UID:6939-1717920000-1717952400@www.club-c2s.org
SUMMARY:OPEN 2/3 ACCESS - GRAND PRIX DE MONTMEYRAN dimanche 9 juin 2024U.C. MONTMEYRAN VALENCEOPEN 2/3 ACCESS 1/2/3/4MONTMEYRAN
DESCRIPTION:https://framadate.org/6VsW8X6avrr8N1U2 \n\n\n\nDESCRIPTION  \n\n\n\nINFORMATIONS ET RESULTATS \n\n\n\ndossards à 14h30 et Départ à 15h30 \n\n\n\n14 tours pour 99\,5 km \n\n\n\nGrille de prix : 228/5
URL:https://www.club-c2s.org/event/open-2-3-access-grand-prix-de-montmeyran-dimanche-9-juin-2024u-c-montmeyran-valenceopen-2-3-access-1-2-3-4montmeyran/
END:VEVENT
BEGIN:VEVENT
DTSTART;TZID=Europe/Paris:20240615T080000
DTEND;TZID=Europe/Paris:20240615T170000
DTSTAMP:20260425T024033
CREATED:20240503T135848Z
LAST-MODIFIED:20240503T135850Z
UID:6833-1718438400-1718470800@www.club-c2s.org
SUMMARY:A travers le Beaujolais U15 U19
DESCRIPTION:https://www.c-s-beaujolais-maconnais.com/a-travers-le-beaujolais-2024 \n\n\n\nhttps://framadate.org/eePH48pXQ7RqzQ21
URL:https://www.club-c2s.org/event/a-travers-le-beaujolais-u15-u19/
END:VEVENT
BEGIN:VEVENT
DTSTART;TZID=Europe/Paris:20240622T080000
DTEND;TZID=Europe/Paris:20240622T170000
DTSTAMP:20260425T024033
CREATED:20240503T140033Z
LAST-MODIFIED:20240503T140034Z
UID:6835-1719043200-1719075600@www.club-c2s.org
SUMMARY:Championnat AURA à Eybens avec le GMC38EF: 22/23 Juin
DESCRIPTION:https://framadate.org/gOd2xtIHGwxF8jYk
URL:https://www.club-c2s.org/event/championnat-aura-a-eybens-avec-le-gmc38ef-22-23-juin/
END:VEVENT
BEGIN:VEVENT
DTSTART;TZID=Europe/Paris:20240622T080000
DTEND;TZID=Europe/Paris:20240622T170000
DTSTAMP:20260425T024033
CREATED:20240515T153842Z
LAST-MODIFIED:20240515T153847Z
UID:6842-1719043200-1719075600@www.club-c2s.org
SUMMARY:Championnat AURA à Eybens avec le GMC38EF: 22/23 Juin
DESCRIPTION:https://framadate.org/UzUCeJmprSQO4FE5
URL:https://www.club-c2s.org/event/championnat-aura-a-eybens-avec-le-gmc38ef-22-23-juin-2/
END:VEVENT
BEGIN:VEVENT
DTSTART;TZID=Europe/Paris:20240630T080000
DTEND;TZID=Europe/Paris:20240630T170000
DTSTAMP:20260425T024033
CREATED:20240614T072055Z
LAST-MODIFIED:20240614T072055Z
UID:6949-1719734400-1719766800@www.club-c2s.org
SUMMARY:ECOLE DE CYCLISME - GRAND PRIX DES AVENIERES SOUVENIR MARIUS VIAL dimanche 30 juin 2024 CHARVIEU CHAVAGNEUX I.C. Ecoles de cyclisme LES AVENIERES
DESCRIPTION:https://framadate.org/NtLMyGUswGc9lWCP \n\n\n\nDESCRIPTION  \n\n\n\nINFORMATIONS ET RESULTATS \n\n\n\nDOSSARDS : 09h30 école de Buvin \n\n\n\nDEPART : route de buvin 10H30 
URL:https://www.club-c2s.org/event/ecole-de-cyclisme-grand-prix-des-avenieres-souvenir-marius-vial-dimanche-30-juin-2024-charvieu-chavagneux-i-c-ecoles-de-cyclisme-les-avenieres/
END:VEVENT
BEGIN:VEVENT
DTSTART;TZID=Europe/Paris:20240630T080000
DTEND;TZID=Europe/Paris:20240630T170000
DTSTAMP:20260425T024033
CREATED:20240614T072501Z
LAST-MODIFIED:20240614T072501Z
UID:6951-1719734400-1719766800@www.club-c2s.org
SUMMARY:OPEN 1/2/3 - GRAND PRIX DES AVENIERES SOUVENIR MARIUS VIAL °dimanche 30 juin 2024 CHARVIEU CHAVAGNEUX I.C.OPEN 1/2/3LES AVENIERES
DESCRIPTION:https://framadate.org/NtLMyGUswGc9lWCP \n\n\n\nDESCRIPTION  \n\n\n\nINFORMATIONS ET RESULTATS \n\n\n\nCIRCUIT : 90 km sur 18 tours \n\n\n\nDOSSARDS : 14H00 école de Buvin \n\n\n\nDEPART : 15H15 – route de Buvin
URL:https://www.club-c2s.org/event/open-1-2-3-grand-prix-des-avenieres-souvenir-marius-vial-dimanche-30-juin-2024-charvieu-chavagneux-i-c-open-1-2-3les-avenieres/
END:VEVENT
BEGIN:VEVENT
DTSTART;TZID=Europe/Paris:20240630T080000
DTEND;TZID=Europe/Paris:20240630T170000
DTSTAMP:20260425T024033
CREATED:20240614T072716Z
LAST-MODIFIED:20240614T072716Z
UID:6953-1719734400-1719766800@www.club-c2s.org
SUMMARY:ACCESS - GRAND PRIX DE BOURG LES VALENCE dimanche 30 juin 2024S.C. BOURG LES VALENCEACCESS 1/2/3/4BOURG LES VALENCE
DESCRIPTION:https://framadate.org/EjZ3UOwspvzyLPv6 \n\n\n\nDESCRIPTION  \n\n\n\nINFORMATIONS ET RESULTATS \n\n\n\nCIRCUIT: 8.8 kms x 8 tours soit 70\,4 kms  \n\n\n\nDOSSARDS: 2323 Rte de Fouillouse bourg les valence 14h30 limité à 80 coureurs \n\n\n\nDEPART: idem bourg les valence à 15h30
URL:https://www.club-c2s.org/event/access-grand-prix-de-bourg-les-valence-dimanche-30-juin-2024s-c-bourg-les-valenceaccess-1-2-3-4bourg-les-valence/
END:VEVENT
BEGIN:VEVENT
DTSTART;TZID=Europe/Paris:20240630T080000
DTEND;TZID=Europe/Paris:20240630T170000
DTSTAMP:20260425T024033
CREATED:20240614T072829Z
LAST-MODIFIED:20240614T072829Z
UID:6955-1719734400-1719766800@www.club-c2s.org
SUMMARY:U17-BOURG LES VALENCEdimanche 30 juin 2024S.C. BOURG LES VALENCEU17et Femmes JS BOURG LES VALENCE
DESCRIPTION:https://framadate.org/EjZ3UOwspvzyLPv6\n\n\n\n\nDESCRIPTION  \n\n\n\n INFORMATIONS ET RESULTATS \n\n\n\nCIRCUIT: 8.8 km x 6 tours soit 52\,8 kms parcours vallonné \n\n\n\nDOSSARDS: 2323 route de fouillouse bourg les valence de 10h30 limité à 80 coureurs \n\n\n\nDEPART: Route de Fouillouse bourg les valence à 11h30
URL:https://www.club-c2s.org/event/u17-bourg-les-valencedimanche-30-juin-2024s-c-bourg-les-valenceu17et-femmes-js-bourg-les-valence/
END:VEVENT
END:VCALENDAR