BEGIN:VCALENDAR
VERSION:2.0
PRODID:-//Club-C2S - ECPv6.15.20//NONSGML v1.0//EN
CALSCALE:GREGORIAN
METHOD:PUBLISH
X-WR-CALNAME:Club-C2S
X-ORIGINAL-URL:https://www.club-c2s.org
X-WR-CALDESC:Évènements pour Club-C2S
REFRESH-INTERVAL;VALUE=DURATION:PT1H
X-Robots-Tag:noindex
X-PUBLISHED-TTL:PT1H
BEGIN:VTIMEZONE
TZID:Europe/Paris
BEGIN:DAYLIGHT
TZOFFSETFROM:+0100
TZOFFSETTO:+0200
TZNAME:CEST
DTSTART:20230326T010000
END:DAYLIGHT
BEGIN:STANDARD
TZOFFSETFROM:+0200
TZOFFSETTO:+0100
TZNAME:CET
DTSTART:20231029T010000
END:STANDARD
BEGIN:DAYLIGHT
TZOFFSETFROM:+0100
TZOFFSETTO:+0200
TZNAME:CEST
DTSTART:20240331T010000
END:DAYLIGHT
BEGIN:STANDARD
TZOFFSETFROM:+0200
TZOFFSETTO:+0100
TZNAME:CET
DTSTART:20241027T010000
END:STANDARD
BEGIN:DAYLIGHT
TZOFFSETFROM:+0100
TZOFFSETTO:+0200
TZNAME:CEST
DTSTART:20250330T010000
END:DAYLIGHT
BEGIN:STANDARD
TZOFFSETFROM:+0200
TZOFFSETTO:+0100
TZNAME:CET
DTSTART:20251026T010000
END:STANDARD
END:VTIMEZONE
BEGIN:VEVENT
DTSTART;TZID=Europe/Paris:20240501T080000
DTEND;TZID=Europe/Paris:20240501T170000
DTSTAMP:20260425T010359
CREATED:20240402T074641Z
LAST-MODIFIED:20240402T074643Z
UID:6787-1714550400-1714582800@www.club-c2s.org
SUMMARY:U17 & FEMMES U19 SENIORS - GRAND PRIX LEO THOMAS mercredi 1 mai 2024G.O. LA LECHERE U17et Femmes JSLA LECHERE
DESCRIPTION:https://framadate.org/bZgxzGzzXpBNQiRl \n\n\n\nDESCRIPTION  \n\n\n\nINFORMATIONS ET RÉSULTATS \n\n\n\nLien d’engagement : https://club.ffc.fr/ \n\n\n\n♦ Heure retrait dossards : 8h30 \n\n\n\n♦ Lieu de retrait des dossards : Village 92 \n\n\n\n♦ Heure de départ 1 : 10h – Montée de Naves (11 km) \n\n\n\n♦ Heure de départ 2 : 13h – GP Léo Thomas (74 km) \n\n\n\n♦ Montant engagement : 15€ (2 x 7.50€) \n\n\n\n♦ Engagement sur place : + 3€
URL:https://www.club-c2s.org/event/u17-femmes-u19-seniors-grand-prix-leo-thomas-mercredi-1-mai-2024g-o-la-lechere-u17et-femmes-jsla-lechere/
END:VEVENT
BEGIN:VEVENT
DTSTART;TZID=Europe/Paris:20240501T080000
DTEND;TZID=Europe/Paris:20240501T170000
DTSTAMP:20260425T010359
CREATED:20240402T074824Z
LAST-MODIFIED:20240402T074826Z
UID:6789-1714550400-1714582800@www.club-c2s.org
SUMMARY:OPEN 2/3 ACCESS 1/2/3/4 - TROPHEE LEO THOMAS mercredi 1 mai 2024G.O. LA LECHEREOPEN 2/3 ACCESS 1/2/3/4LA LECHERE
DESCRIPTION:DESCRIPTION  \n\n\n\nINFORMATIONS ET RÉSULTATS \n\n\n\nLien d’engagement : https://club.ffc.fr/ \n\n\n\n♦ Heure retrait dossards : 8h30 \n\n\n\n♦ Lieu de retrait des dossards : Village 92 \n\n\n\n♦ Heure de départ 1 : 10h – Montée de Naves (15 km) \n\n\n\n♦ Heure de départ 2 : 15h – GP Léo Thomas (74 km) \n\n\n\n♦ Montant engagement : 30€ (2 x 15€) \n\n\n\n♦ Engagement sur place : + 5€ \n\n\n\n\n\nhttps://framadate.org/bZgxzGzzXpBNQiRl
URL:https://www.club-c2s.org/event/open-2-3-access-1-2-3-4-trophee-leo-thomas-mercredi-1-mai-2024g-o-la-lechereopen-2-3-access-1-2-3-4la-lechere/
END:VEVENT
BEGIN:VEVENT
DTSTART;TZID=Europe/Paris:20240501T080000
DTEND;TZID=Europe/Paris:20240501T170000
DTSTAMP:20260425T010359
CREATED:20240402T075014Z
LAST-MODIFIED:20240402T075016Z
UID:6791-1714550400-1714582800@www.club-c2s.org
SUMMARY:ECOLE DE CYCLISME - GRAND PRIX LEO THOMAS mercredi 1 mai 2024G.O. LA LECHERE Ecoles de cyclisme LA LECHERE
DESCRIPTION:https://framadate.org/bZgxzGzzXpBNQiRl \n\n\n\nDESCRIPTION  \n\n\n\nINFORMATIONS ET RÉSULTATS \n\n\n\nLien d’engagement : https://club.ffc.fr/ \n\n\n\n♦ Nombre de tour : de 1 à 4 \n\n\n\n♦ Heure retrait dossards : 8h \n\n\n\n♦ Lieu de retrait des dossards : Village 92 \n\n\n\n♦ Heure de départ 1 : 9h \n\n\n\n♦ Heure de départ 2 : 10h \n\n\n\n♦ Email organisateur  go.lalechere@gmail.com 
URL:https://www.club-c2s.org/event/ecole-de-cyclisme-grand-prix-leo-thomas-mercredi-1-mai-2024g-o-la-lechere-ecoles-de-cyclisme-la-lechere/
END:VEVENT
BEGIN:VEVENT
DTSTART;TZID=Europe/Paris:20240501T080000
DTEND;TZID=Europe/Paris:20240501T170000
DTSTAMP:20260425T010359
CREATED:20240414T194945Z
LAST-MODIFIED:20240414T194947Z
UID:6799-1714550400-1714582800@www.club-c2s.org
SUMMARY:ECOLE DE ROUTE - GRAND PRIX DE FONTAINE mercredi 1 mai 2024A.S. FONTAINE Ecole de route FONTAINE
DESCRIPTION:https://framadate.org/Gmu3E82YTcCkBfi8 \n\n\n\nDESCRIPTION  \n\n\n\nINFORMATIONS ET RESULTATS \n\n\n\nGRAND PRIX DE LA VILLE FONTAINE [38]: ASF Cyclisme Ecole de Cyclisme \n\n\n\nCIRCUIT: 1.40km à effectuer selon catégorie \n\n\n\nDOSSARDS: 8h00 parc de la Poya \n\n\n\nDEPART: 9h00 idem
URL:https://www.club-c2s.org/event/ecole-de-route-grand-prix-de-fontaine-mercredi-1-mai-2024a-s-fontaine-ecole-de-route-fontaine/
END:VEVENT
BEGIN:VEVENT
DTSTART;TZID=Europe/Paris:20240501T080000
DTEND;TZID=Europe/Paris:20240501T170000
DTSTAMP:20260425T010359
CREATED:20240414T195111Z
LAST-MODIFIED:20240414T195114Z
UID:6801-1714550400-1714582800@www.club-c2s.org
SUMMARY:OPEN 3 ACCESS - GRAND PRIX DE FONTAINE mercredi 1 mai 2024 A.S. FONTAINEOPEN 3 ACCESS 1/2/3/4FONTAINE
DESCRIPTION:https://framadate.org/Gmu3E82YTcCkBfi8 \n\n\n\nDESCRIPTION  \n\n\n\nINFORMATIONS ET RESULTATS \n\n\n\nCIRCUIT: 1.4 KM X 50 soit 70 km \n\n\n\nDOSSARDS: 14h00 parc de la Poya \n\n\n\nDEPART: 15h00 idem \n\n\n\nEngagements par internet: https://club.ffc.fr/ à payer sur place12 € ; limité à 80 participants 
URL:https://www.club-c2s.org/event/open-3-access-grand-prix-de-fontaine-mercredi-1-mai-2024-a-s-fontaineopen-3-access-1-2-3-4fontaine/
END:VEVENT
BEGIN:VEVENT
DTSTART;TZID=Europe/Paris:20240501T080000
DTEND;TZID=Europe/Paris:20240501T170000
DTSTAMP:20260425T010359
CREATED:20240414T195233Z
LAST-MODIFIED:20240414T195235Z
UID:6803-1714550400-1714582800@www.club-c2s.org
SUMMARY:U17- GRAND PRIX DE FONTAINE mercredi 1 mai 2024 A.S. FONTAINEU17 FONTAINE
DESCRIPTION:https://framadate.org/Gmu3E82YTcCkBfi8 \n\n\n\nDESCRIPTION  \n\n\n\nINFORMATIONS ET RESULTATS \n\n\n\nGRAND PRIX DE LA VILLE FONTAINE [38]: ASF Cyclisme U17 \n\n\n\nCIRCUIT: 1.4KM X 35 soit 50 km \n\n\n\nDOSSARDS: 11h00 – parc de la Poya \n\n\n\nDEPART: 12h00 – idem \n\n\n\nEngagements par internet: https://club.ffc.fr/ 7.5€ ; sur place +2 € ; limité à 80 participants
URL:https://www.club-c2s.org/event/u17-grand-prix-de-fontaine-mercredi-1-mai-2024-a-s-fontaineu17-fontaine/
END:VEVENT
BEGIN:VEVENT
DTSTART;TZID=Europe/Paris:20240504T080000
DTEND;TZID=Europe/Paris:20240504T170000
DTSTAMP:20260425T010359
CREATED:20240402T075445Z
LAST-MODIFIED:20240402T075447Z
UID:6793-1714809600-1714842000@www.club-c2s.org
SUMMARY:Tour du Pays Voironnais du 4 et 5 mai 2024 Open 3 - Access - u17 - U15 https://ucvoiron.fr/index.php/organisations
DESCRIPTION:https://framadate.org/RzQafUnxsgKXLxwO \n\n\n\n \n\n\n\n Tous les détails sur le fichier BOOK PDF 2024 de la course :  PDF-BOOK V1 26032024 \n\n\n\n ( résultats 2023 : TPV2023 LIVE ET RESULTATS ) \n\n\n\nLe classement général se fera aux points \n\n\n\nLA 1ERE ETAPE SAMEDI 4 MAI \n\n\n\nLa première étape se déroulera autour du lac de Paladru avec arrivée dans le mur de l’église de Paladru pour le dernier tour. \n\n\n\nHORAIRES \n\n\n\nCatégorieOpen 3 / Access 1FémininesU17Access 2/3/4Dossards8 h8 h10 h 3010 h 30Départ9 h 309 h 3212 h12 h 02\n\n\n\n\n\n\n\n\n\n\n\nLA 2EME ETAPE SAMEDI 04 MAI « Souvenir Gilles UBERTO » \n\n\n\nLa deuxième étape partira de St Etienne de Crossey pour se finir au sommet du col des Mille Martyrs \n\n\n\nHORAIRES \n\n\n\nCatégorieOpen 3 / Access 1U17FémininesAccess 2/3/4U15Dossards et/ou émargement16 h16 h 1516h3016h4516h45Départ17h17h1517h3017h4518h\n\n\n\n\n\n\n\n\n\n\n\nLA 3EME ETAPE DIMANCHE 5 MAI « Souvenir Dominique MORENO » \n\n\n\nHORAIRES \n\n\n\nCatégorieAccess 2/3/4FémininesU17Open 3 Access 1Dossards et /ou émergement8h009h3011h3013h00Départ9h0010h3012h3014h00\n\n\n\nCatégorieU9U11U13U15Dossards et /ou émergement15h0015h1015h3016h00Départ16h0016h1016h3017h00\n\n\n\nPARCOURS
URL:https://www.club-c2s.org/event/tour-du-pays-voironnais-du-4-et-5-mai-2024-open-3-access-u17-u15-https-ucvoiron-fr-index-php-organisations/
END:VEVENT
BEGIN:VEVENT
DTSTART;TZID=Europe/Paris:20240505T080000
DTEND;TZID=Europe/Paris:20240505T170000
DTSTAMP:20260425T010359
CREATED:20240402T075655Z
LAST-MODIFIED:20240402T075657Z
UID:6796-1714896000-1714928400@www.club-c2s.org
SUMMARY:ECOLE DE CYCLISME - TOUR DU PAYS VOIRONNAIS dimanche 5 mai 2024U.C. VOIRONNAISE Ecole de route VOIRON
DESCRIPTION:https://framadate.org/RzQafUnxsgKXLxwO \n\n\n\nDESCRIPTION  \n\n\n\nINFORMATIONS ET RESULTATS \n\n\n\nDimanche 05 mai \n\n\n\nDossards Dossard 15h00 avenue François Mitterrand à VoironDépart 16h00 U9 3X1.3=3.9 kmsDépart 16h10 U11 6X1.3=7.8kmsDépart 16h30 U13 10X1.3kms 13kms
URL:https://www.club-c2s.org/event/ecole-de-cyclisme-tour-du-pays-voironnais-dimanche-5-mai-2024u-c-voironnaise-ecole-de-route-voiron/
END:VEVENT
BEGIN:VEVENT
DTSTART;TZID=Europe/Paris:20240518T080000
DTEND;TZID=Europe/Paris:20240518T170000
DTSTAMP:20260425T010359
CREATED:20240503T132751Z
LAST-MODIFIED:20240503T132753Z
UID:6814-1716019200-1716051600@www.club-c2s.org
SUMMARY:ROMANS « ST JEAN » (26) UC MONTMEYRAN VALENCE  Ecole de Cyclisme  
DESCRIPTION:https://framadate.org/RP8tXaMkMEZaYxBe \n\n\n\nRetrait des dossards\, Départ et Arrivée : Rue Condorcet – Z.I des Allobroges – 26100 ROMANS SUR ISERE \n\n\n\nDossards à 12h00 \n\n\n\nDépart des épreuves : Contre-la-montre à 13h00 – courses à partir de 14h30 \n\n\n\n2 épreuves pour toutes les catégories : un contre-la-montre (1 tour de circuit – 1 160 m) et une course (tour de 1 690 mètres avec nb de tours selon catégories)
URL:https://www.club-c2s.org/event/romans-st-jean-26-uc-montmeyran-valence-ecole-de-cyclisme/
END:VEVENT
BEGIN:VEVENT
DTSTART;TZID=Europe/Paris:20240518T080000
DTEND;TZID=Europe/Paris:20240518T170000
DTSTAMP:20260425T010359
CREATED:20240503T132952Z
LAST-MODIFIED:20240503T132954Z
UID:6816-1716019200-1716051600@www.club-c2s.org
SUMMARY:U17- GRAND PRIX DE CORBAS samedi 18 mai 2024 CORBAS LYON METROPOLE U17 CORBAS
DESCRIPTION:https://framadate.org/BT4QX2eNYMUvX2GR \n\n\n\nDESCRIPTION  \n\n\n\nINFORMATIONS ET RESULTATS \n\n\n\nCIRCUIT: 48.1 km sur 13 tours \n\n\n\nDOSSARDS: 13h00 –  \n\n\n\nDEPART: 14h00 – rue du Champ Blanc  \n\n\n\nEngagements par internet: https://club.ffc.fr/ 7\,5€ ; + 2 € sur place ; limité à 100 participants
URL:https://www.club-c2s.org/event/u17-grand-prix-de-corbas-samedi-18-mai-2024-corbas-lyon-metropole-u17-corbas/
END:VEVENT
BEGIN:VEVENT
DTSTART;TZID=Europe/Paris:20240518T080000
DTEND;TZID=Europe/Paris:20240518T170000
DTSTAMP:20260425T010359
CREATED:20240503T133106Z
LAST-MODIFIED:20240503T133108Z
UID:6818-1716019200-1716051600@www.club-c2s.org
SUMMARY:ACCESS - GRAND PRIX DE CORBAS samedi 18 mai 2024 CORBAS LYON METROPOLE ACCESS 1/2/3/4CORBAS
DESCRIPTION:https://framadate.org/BT4QX2eNYMUvX2GR \n\n\n\nDESCRIPTION  \n\n\n\n INFORMATIONS ET RESULTATS \n\n\n\nCIRCUIT: 62.9 km sur 17 tours \n\n\n\nDOSSARDS: 14H30  Parking cimetière rue du Champ Blanc   \n\n\n\nDEPART: 15H30 – idem
URL:https://www.club-c2s.org/event/access-grand-prix-de-corbas-samedi-18-mai-2024-corbas-lyon-metropole-access-1-2-3-4corbas/
END:VEVENT
BEGIN:VEVENT
DTSTART;TZID=Europe/Paris:20240518T080000
DTEND;TZID=Europe/Paris:20240518T170000
DTSTAMP:20260425T010359
CREATED:20240503T133226Z
LAST-MODIFIED:20240503T133228Z
UID:6820-1716019200-1716051600@www.club-c2s.org
SUMMARY:OPEN 1/2/3 - GRAND PRIX DE LA VILLE DE CORBASsamedi 18 mai 2024CORBAS LYON METROPOLEOPEN 1/2/3CORBAS
DESCRIPTION:https://framadate.org/BT4QX2eNYMUvX2GR \n\n\n\nDESCRIPTION  \n\n\n\nINFORMATIONS ET RESULTATS  \n\n\n\nDISTANCE : 92.5 km sur 25 tours \n\n\n\nDOSSARDS : 17h00 rue du champ blanc \n\n\n\nDEPART : 18h00
URL:https://www.club-c2s.org/event/open-1-2-3-grand-prix-de-la-ville-de-corbassamedi-18-mai-2024corbas-lyon-metropoleopen-1-2-3corbas/
END:VEVENT
BEGIN:VEVENT
DTSTART;TZID=Europe/Paris:20240519T080000
DTEND;TZID=Europe/Paris:20240519T170000
DTSTAMP:20260425T010359
CREATED:20240503T133420Z
LAST-MODIFIED:20240503T133609Z
UID:6822-1716105600-1716138000@www.club-c2s.org
SUMMARY:OPEN 2/3 - GRAND PRIX DE LA VILLE DE LA MOTTE SERVOLEX dimanche 19 mai 2024LA MOTTE SERVOLEX CYCLISMEOPEN 2/3LA MOTTE SERVOLEX
DESCRIPTION:https://framadate.org/wnWjBlWjxiE2ZTk4 \n\n\n\nDESCRIPTION  \n\n\n\nINFORMATIONS ET RESULTATS \n\n\n\nLA MOTTE SERVOLEX GD PX DE LA VILLE [73] LA MOTTE SERVOLEX CYCLISM \n\n\n\nCIRCUIT : 2\,2km x 40 tours DISTANCE: 88km \n\n\n\nDOSSARDS: 14H45 à 15h15 avenue René Cassin près super U \n\n\n\nDEPART : 15H30 
URL:https://www.club-c2s.org/event/open-2-3-grand-prix-de-la-ville-de-la-motte-servolex-dimanche-19-mai-2024la-motte-servolex-cyclismeopen-2-3la-motte-servolex/
END:VEVENT
BEGIN:VEVENT
DTSTART;TZID=Europe/Paris:20240519T080000
DTEND;TZID=Europe/Paris:20240519T170000
DTSTAMP:20260425T010359
CREATED:20240503T133545Z
LAST-MODIFIED:20240503T133546Z
UID:6824-1716105600-1716138000@www.club-c2s.org
SUMMARY:ACCESS - GRAND PRIX BOBAB IMMO dimanche 19 mai 2024 LA MOTTE SERVOLEX CYCLISMEACCESS 1/2/3/4LA MOTTE SERVOLEX
DESCRIPTION:https://framadate.org/wnWjBlWjxiE2ZTk4 \n\n\n\nDESCRIPTION  \n\n\n\nINFORMATIONS ET RESULTATS \n\n\n\nCIRCUIT PLAT : 2.2 km x 24 tours soit 52.8 km \n\n\n\nDOSSARDS : 9H15 à 9h45 rue Denis Papin près Super U \n\n\n\nDEPART : 10h00 idem
URL:https://www.club-c2s.org/event/access-grand-prix-bobab-immo-dimanche-19-mai-2024-la-motte-servolex-cyclismeaccess-1-2-3-4la-motte-servolex/
END:VEVENT
BEGIN:VEVENT
DTSTART;TZID=Europe/Paris:20240525T080000
DTEND;TZID=Europe/Paris:20240525T170000
DTSTAMP:20260425T010359
CREATED:20240515T153426Z
LAST-MODIFIED:20240515T153430Z
UID:6838-1716624000-1716656400@www.club-c2s.org
SUMMARY:Piste Vélodrome d'Eybens de U15 à séniors
DESCRIPTION:https://framadate.org/EP5ngnMBaTwstSfw \n\n\n\nDOSSARDS : vélodrome d’Eybens à 13h00 \n\n\n\nDEPART : vélodrome d’Eybens à 14h00
URL:https://www.club-c2s.org/event/piste-velodrome-deybens-de-u15-a-seniors/
END:VEVENT
BEGIN:VEVENT
DTSTART;TZID=Europe/Paris:20240526T080000
DTEND;TZID=Europe/Paris:20240526T170000
DTSTAMP:20260425T010359
CREATED:20240503T134331Z
LAST-MODIFIED:20240503T134332Z
UID:6827-1716710400-1716742800@www.club-c2s.org
SUMMARY:OPEN 2/3 - PRIX CYCLISTE DE VANDEINS dimanche 26 mai 2024 ST DENIS CYCLISME OPEN 2/3VANDEINS
DESCRIPTION:https://framadate.org/GvGQvgyGNGZOxU8J \n\n\n\n \n\n\n\nDESCRIPTION  \n\n\n\nINFORMATIONS ET RESULTATS \n\n\n\nPRIX DE VANDEINS 3/J/PCO [01] ST DENIS CYCLISME \n\n\n\nCIRCUIT : 8km x 12 tours DISTANCE: 96km \n\n\n\nDOSSARDS :  13H30 à 14h15 – Salle des Fêtes \n\n\n\nDEPART : 14H30 – Podium
URL:https://www.club-c2s.org/event/open-2-3-prix-cycliste-de-vandeins-dimanche-26-mai-2024-st-denis-cyclisme-open-2-3vandeins/
END:VEVENT
BEGIN:VEVENT
DTSTART;TZID=Europe/Paris:20240526T080000
DTEND;TZID=Europe/Paris:20240526T170000
DTSTAMP:20260425T010359
CREATED:20240515T154811Z
LAST-MODIFIED:20240515T154815Z
UID:6844-1716710400-1716742800@www.club-c2s.org
SUMMARY:  
DESCRIPTION:GRAND PRIX DU ROSAY – U17 dimanche 26 mai 2024  \n\n\n\nV.C. RHODANIENU17CONDRIEU \n\n\n\nhttps://framadate.org/iwFHUzQKEY9Nzmd2 \n\n\n\nDESCRIPTION  \n\n\n\nINFORMATIONS ET RESULTATS \n\n\n\n♦ Nombre de tour : 16 \n\n\n\n♦ Distance totale : 64 \n\n\n\n♦ Heure retrait dossards : 12h00 \n\n\n\n♦ Lieu de retrait des dossards : le Rosay Condrieu \n\n\n\n♦ Heure de départ : 13h30
URL:https://www.club-c2s.org/event/6844/
END:VEVENT
BEGIN:VEVENT
DTSTART;TZID=Europe/Paris:20240526T080000
DTEND;TZID=Europe/Paris:20240526T170000
DTSTAMP:20260425T010359
CREATED:20240515T155050Z
LAST-MODIFIED:20240515T155054Z
UID:6847-1716710400-1716742800@www.club-c2s.org
SUMMARY:  
DESCRIPTION:GRAND PRIX DU ROSAY – OPEN 3 -ACCESSdimanche 26 mai 2024V.C. RHODANIENOPEN 3 ACCESS 1/2/3/4CONDRIEU \n\n\n\nhttps://framadate.org/iwFHUzQKEY9Nzmd2 \n\n\n\nDESCRIPTION  \n\n\n\nINFORMATIONS ET RESULTATS \n\n\n\n♦ Nombre de tour : 18 \n\n\n\n♦ Distance totale : 72 \n\n\n\n♦ Heure retrait dossards : 9h30 \n\n\n\n♦ Lieu de retrait des dossards : le Rosay Condrieu \n\n\n\n♦ Heure de départ : 10h30
URL:https://www.club-c2s.org/event/6847/
END:VEVENT
BEGIN:VEVENT
DTSTART;TZID=Europe/Paris:20240526T080000
DTEND;TZID=Europe/Paris:20240526T170000
DTSTAMP:20260425T010359
CREATED:20240515T155158Z
LAST-MODIFIED:20240515T155202Z
UID:6849-1716710400-1716742800@www.club-c2s.org
SUMMARY:GRAND PRIX DU ROSAY - U15 dimanche 26 mai 2024V.C. RHODANIEN Femmes U15 U17 CONDRIEU
DESCRIPTION:https://framadate.org/iwFHUzQKEY9Nzmd2 \n\n\n\nDESCRIPTION  \n\n\n\nINFORMATIONS ET RESULTATS \n\n\n\n♦ Nombre de tour : 10 \n\n\n\n♦ Distance totale : 40 \n\n\n\n♦ Heure retrait dossards : 12h00 \n\n\n\n♦ Lieu de retrait des dossards : le Rosay Condrieu \n\n\n\n♦ Heure de départ : 13h35
URL:https://www.club-c2s.org/event/grand-prix-du-rosay-u15-dimanche-26-mai-2024v-c-rhodanien-femmes-u15-u17-condrieu/
END:VEVENT
END:VCALENDAR