BEGIN:VCALENDAR
VERSION:2.0
PRODID:-//Club-C2S - ECPv6.15.20//NONSGML v1.0//EN
CALSCALE:GREGORIAN
METHOD:PUBLISH
X-ORIGINAL-URL:https://www.club-c2s.org
X-WR-CALDESC:Évènements pour Club-C2S
REFRESH-INTERVAL;VALUE=DURATION:PT1H
X-Robots-Tag:noindex
X-PUBLISHED-TTL:PT1H
BEGIN:VTIMEZONE
TZID:Europe/Paris
BEGIN:DAYLIGHT
TZOFFSETFROM:+0100
TZOFFSETTO:+0200
TZNAME:CEST
DTSTART:20230326T010000
END:DAYLIGHT
BEGIN:STANDARD
TZOFFSETFROM:+0200
TZOFFSETTO:+0100
TZNAME:CET
DTSTART:20231029T010000
END:STANDARD
BEGIN:DAYLIGHT
TZOFFSETFROM:+0100
TZOFFSETTO:+0200
TZNAME:CEST
DTSTART:20240331T010000
END:DAYLIGHT
BEGIN:STANDARD
TZOFFSETFROM:+0200
TZOFFSETTO:+0100
TZNAME:CET
DTSTART:20241027T010000
END:STANDARD
BEGIN:DAYLIGHT
TZOFFSETFROM:+0100
TZOFFSETTO:+0200
TZNAME:CEST
DTSTART:20250330T010000
END:DAYLIGHT
BEGIN:STANDARD
TZOFFSETFROM:+0200
TZOFFSETTO:+0100
TZNAME:CET
DTSTART:20251026T010000
END:STANDARD
END:VTIMEZONE
BEGIN:VEVENT
DTSTART;TZID=Europe/Paris:20240401T080000
DTEND;TZID=Europe/Paris:20240401T170000
DTSTAMP:20260424T234057
CREATED:20240326T082541Z
LAST-MODIFIED:20240326T082543Z
UID:6773-1711958400-1711990800@www.club-c2s.org
SUMMARY:U17 & FEMMES JS- PRIX UTZ - VILLETTE SUR AINlundi 1 avril 2024 VELO CLUB D'AMBERIEU U17et Femmes JSVILLETTE SUR AIN
DESCRIPTION:https://framadate.org/chU7F6Zn5c3SDlvc \n\n\n\nDESCRIPTION  \n\n\n\n INFORMATIONS ET RESULTATS \n\n\n\nVILLETTE SUR AIN  Prix UTZ U17  \n\n\n\nCIRCUIT : 6.6 kms x 9 tours soit 59.40 kms \n\n\n\nDOSSARDS : devant l’Eglise à partir de 10h00 \n\n\n\nDEPART : idem 12h01 \n\n\n\nENGAGEMENTS : https://maj.ffc.fr/maj/  7.5 € ; sur place +2 € \n\n\n\nGRILLE 110/6 U17\, 35/3 FEMME U17 ET 45/3 FEMME U19 SENIORS \n\n\n\nCONTACT : vcamberieu@gmail.com tel 0660101605
URL:https://www.club-c2s.org/event/u17-femmes-js-prix-utz-villette-sur-ainlundi-1-avril-2024-velo-club-damberieu-u17et-femmes-jsvillette-sur-ain/
END:VEVENT
BEGIN:VEVENT
DTSTART;TZID=Europe/Paris:20240401T080000
DTEND;TZID=Europe/Paris:20240401T170000
DTSTAMP:20260424T234057
CREATED:20240326T082953Z
LAST-MODIFIED:20240326T082955Z
UID:6775-1711958400-1711990800@www.club-c2s.org
SUMMARY:OPEN 2/3 - PRIX DE VILLETTE SUR AIN "SOUVENIR JEAN CLAPISSON "lundi 1 avril 2024VELO CLUB D'AMBERIEU OPEN 2/3VILLETTE SUR AIN
DESCRIPTION:https://framadate.org/chU7F6Zn5c3SDlvc \n\n\n\nDESCRIPTION  \n\n\n\nINFORMATIONS ET RESULTATS \n\n\n\nVILLETTE SUR AIN Souvenir Jean CLAPISSON [01] VELO CLUB D’AMBERIEU Cat OPEN 2 & 3 \n\n\n\nCIRCUIT : 6.6 km x 14 tours DISTANCE : 92\,4km \n\n\n\nDOSSARDS : devant l’Eglise rue du lavoir à 13H15 \n\n\n\nDEPART : 14H45 Rue de l’Eglise \n\n\n\nEngagements par internet : https://maj.ffc.fr/maj/  12\,00 € ; sur place +2 € \n\n\n\nGRILLE 185/10
URL:https://www.club-c2s.org/event/open-2-3-prix-de-villette-sur-ain-souvenir-jean-clapisson-lundi-1-avril-2024velo-club-damberieu-open-2-3villette-sur-ain/
END:VEVENT
BEGIN:VEVENT
DTSTART;TZID=Europe/Paris:20240407T080000
DTEND;TZID=Europe/Paris:20240407T170000
DTSTAMP:20260424T234057
CREATED:20240306T170200Z
LAST-MODIFIED:20240306T170203Z
UID:6755-1712476800-1712509200@www.club-c2s.org
SUMMARY:U17 & FEMMES U19 SENIORS - PRIX DE LA SAINT BOYON dimanche 7 avril 2024 CHARVIEU CHAVAGNEUX I.C.U17 CHARVIEU CHAVAGNEUX
DESCRIPTION:https://framadate.org/PQUNHVsF413kBwKx \n\n\n\nDESCRIPTION  \n\n\n\nINFORMATIONS ET RESULTATS \n\n\n\nCHARVIEU PX ST BOYON [38] CHARVIEU CHAVAGNEUX I.C. \n\n\n\nCIRCUIT :  64 km sur 40 tours \n\n\n\nDOSSARDS : 14H30 à 15h15 – Place JM Gauthier \n\n\n\nDEPART : 15H30 – Place Jean Marie Gauthier \n\n\n\nEngagements par internet: https://maj.ffc.fr/maj/ 7\,5€ ; sur place  + 2 € \n\n\n\nGRILLE 152/10 ; Femmes 91/5 ; prime sur laligne 100 €
URL:https://www.club-c2s.org/event/u17-femmes-u19-seniors-prix-de-la-saint-boyon-dimanche-7-avril-2024-charvieu-chavagneux-i-c-u17-charvieu-chavagneux/
END:VEVENT
BEGIN:VEVENT
DTSTART;TZID=Europe/Paris:20240407T080000
DTEND;TZID=Europe/Paris:20240407T170000
DTSTAMP:20260424T234057
CREATED:20240306T170258Z
LAST-MODIFIED:20240306T170259Z
UID:6757-1712476800-1712509200@www.club-c2s.org
SUMMARY:ECOLE DE ROUTE - PRIX DE LA SAINT BOYONdimanche 7 avril 2024CHARVIEU CHAVAGNEUX I.C.Ecole de route CHARVIEU CHAVAGNEUX
DESCRIPTION:https://framadate.org/PQUNHVsF413kBwKx \n\n\n\nDESCRIPTION  \n\n\n\nINFORMATIONS ET RESULTATS \n\n\n\nCHARVIEU PX ST BOYON [38] CHARVIEU CHAVAGNEUX I.C. Ecole de Cyclisme \n\n\n\nDOSSARDS: 11H30 à 12h15 place JM Gauthier \n\n\n\nDEPART: 12H30 – Place Jean Marie Gauthier \n\n\n\nEngagements par internet: https://maj.ffc.fr/maj/ \n\n\n\nCONTACT : yrvin.robinet.ccic38@gmail.com tel 06/44/88/37/77
URL:https://www.club-c2s.org/event/ecole-de-route-prix-de-la-saint-boyondimanche-7-avril-2024charvieu-chavagneux-i-c-ecole-de-route-charvieu-chavagneux/
END:VEVENT
BEGIN:VEVENT
DTSTART;TZID=Europe/Paris:20240407T080000
DTEND;TZID=Europe/Paris:20240407T170000
DTSTAMP:20260424T234057
CREATED:20240306T170432Z
LAST-MODIFIED:20240306T170434Z
UID:6759-1712476800-1712509200@www.club-c2s.org
SUMMARY:OPEN 2/3 ACCESS 1/2/3/4 - PRIX DE LA MUNICIPALITE DE SAINT RAMBERT D'ALBON dimanche 7 avril 2024V.C RAMBERTOISOPEN 2/3 ACCESS 1/2/3/4SAINT RAMBERT D'ALBON
DESCRIPTION:https://framadate.org/Dy9kVbAmew4HdgUT \n\n\n\nDESCRIPTION  \n\n\n\nINFORMATIONS ET RESULTATS  \n\n\n\nCIRCUIT: 88.8 kms sur 12 tours de 7.4kms \n\n\n\nDOSSARDS: 9h00 route des fouillouses nord \n\n\n\nDEPART: 10h00 \n\n\n\nEngagements par internet: https://maj.ffc.fr/maj/ 10 € ; sur place + 2 € \n\n\n\nCONTACT 0685697016 email laurent.reynaud6@wanadoo.fr \n\n\n\nRenseignement https://veloclubrambertois.wordpress.com/ 
URL:https://www.club-c2s.org/event/open-2-3-access-1-2-3-4-prix-de-la-municipalite-de-saint-rambert-dalbon-dimanche-7-avril-2024v-c-rambertoisopen-2-3-access-1-2-3-4saint-rambert-dalbon/
END:VEVENT
BEGIN:VEVENT
DTSTART;TZID=Europe/Paris:20240407T080000
DTEND;TZID=Europe/Paris:20240407T170000
DTSTAMP:20260424T234057
CREATED:20240306T170613Z
LAST-MODIFIED:20240306T170616Z
UID:6761-1712476800-1712509200@www.club-c2s.org
SUMMARY:U19 - NEUVILLE SUR AIN CLASSIC dimanche 7 avril 2024BOURG EN BRESSE AIN CYCLISME Régionale U19NEUVILLE SUR AIN
DESCRIPTION:https://framadate.org/EHt7zeyii8vflyog \n\n\n\nDESCRIPTION  \n\n\n\nINFORMATIONS ET RESULTATS  \n\n\n\nPRIX DE NEUVILLE SUR AIN  U19\n\n\n\nCIRCUIT : 8\,8km x 11 tours soit 96\,8km \n\n\n\nDOSSARDS : Salle des fêtes à coté de l’Eglise 14H00 \n\n\n\nDEPART : 15h00
URL:https://www.club-c2s.org/event/u19-neuville-sur-ain-classic-dimanche-7-avril-2024bourg-en-bresse-ain-cyclisme-regionale-u19neuville-sur-ain/
END:VEVENT
BEGIN:VEVENT
DTSTART;TZID=Europe/Paris:20240407T080000
DTEND;TZID=Europe/Paris:20240407T170000
DTSTAMP:20260424T234057
CREATED:20240306T170819Z
LAST-MODIFIED:20240306T170821Z
UID:6763-1712476800-1712509200@www.club-c2s.org
SUMMARY:U17 - PRIX DE LA TOUR DU PIN dimanche 7 avril 2024VELO CLUB TURRIPINOISU17LA TOUR DU PIN
DESCRIPTION:https://framadate.org/w1jVUXm6r1pUBTPc \n\n\n\nDESCRIPTION  \n\n\n\nINFORMATIONS ET RESULTATS \n\n\n\nCIRCUIT : 4km x 14 tours soit 56 km \n\n\n\nDOSSARDS : à partir de 10h00 \n\n\n\nDEPART : 11h00 \n\n\n\nENGAGEMENTS : https://maj.ffc.fr/maj/ 7.5 € +2 sur place \n\n\n\nCONTACT : velo.club.turripinois@gmail.com  tel 0778050650 vcturripinois.fr
URL:https://www.club-c2s.org/event/u17-prix-de-la-tour-du-pin-dimanche-7-avril-2024velo-club-turripinoisu17la-tour-du-pin/
END:VEVENT
BEGIN:VEVENT
DTSTART;TZID=Europe/Paris:20240407T080000
DTEND;TZID=Europe/Paris:20240407T170000
DTSTAMP:20260424T234057
CREATED:20240306T170956Z
LAST-MODIFIED:20240306T170957Z
UID:6765-1712476800-1712509200@www.club-c2s.org
SUMMARY:ECOLE DE CYCLISME - PRIX DE LA TOUR DU PIN dimanche 7 avril 2024VELO CLUB TURRIPINOIS Ecoles de cyclisme SAINT JEAN DE SOUDAIN
DESCRIPTION:https://framadate.org/w1jVUXm6r1pUBTPc \n\n\n\nDESCRIPTION  \n\n\n\nINFORMATIONS ET RESULTATS \n\n\n\nDossards : 08h00 chemin de l’yris 38110 Saint Jean de soudain \n\n\n\nDépart : 09h00 U7 / 9h20 U9 / 9h45 U11 / 10h15 U13 \n\n\n\nEngagements : sur site FFC https://maj.ffc.fr/maj/ \n\n\n\nrenseignements : velo.club.turripinois@gmail.com \n\n\n\nCONTACT : Reynald TEIRLYNCK 0778050650 \n\n\n\nhttps://framadate.org/w1jVUXm6r1pUBTPc
URL:https://www.club-c2s.org/event/ecole-de-cyclisme-prix-de-la-tour-du-pin-dimanche-7-avril-2024velo-club-turripinois-ecoles-de-cyclisme-saint-jean-de-soudain/
END:VEVENT
BEGIN:VEVENT
DTSTART;TZID=Europe/Paris:20240407T080000
DTEND;TZID=Europe/Paris:20240407T170000
DTSTAMP:20260424T234057
CREATED:20240306T171132Z
LAST-MODIFIED:20240306T171746Z
UID:6767-1712476800-1712509200@www.club-c2s.org
SUMMARY:FEMMES U19 SENIORS - PRIX DE LA TOUR DU PIN dimanche 7 avril 2024VELO CLUB TURRIPINOIS Femmes U19 Seniors SAINT JEAN DE SOUDAIN
DESCRIPTION:https://framadate.org/w1jVUXm6r1pUBTPc \n\n\n\nDESCRIPTION  \n\n\n\nINFORMATIONS ET RESULTATS \n\n\n\nCircuit : 88km sur 22 tours \n\n\n\nDossards : à partir de 13h30 chemin de l’yris 38110 Saint Jean de soudain \n\n\n\nDépart : 14h30 \n\n\n\nEngagements : https://maj.ffc.fr/maj/ 12 € ; sur place + 2 € \n\n\n\n Grille de prix 200/10 \n\n\n\nhttps://framadate.org/w1jVUXm6r1pUBTPc
URL:https://www.club-c2s.org/event/femmes-u19-seniors-prix-de-la-tour-du-pin-dimanche-7-avril-2024velo-club-turripinois-femmes-u19-seniorssaint-jean-de-soudain/
END:VEVENT
BEGIN:VEVENT
DTSTART;TZID=Europe/Paris:20240420T080000
DTEND;TZID=Europe/Paris:20240420T170000
DTSTAMP:20260424T234057
CREATED:20240402T072549Z
LAST-MODIFIED:20240402T072551Z
UID:6777-1713600000-1713632400@www.club-c2s.org
SUMMARY:ECOLE DE CYCLISME - RENCONTRE DES ECOLE DE CYCLISME ANNEYRON samedi 20 avril 2024V.C RAMBERTOIS Ecole de route ANNEYRON
DESCRIPTION:https://framadate.org/Iy3CF7cPmkETftcY \n\n\n\nDESCRIPTION  \n\n\n\nINFORMATIONS ET RESULTATS \n\n\n\nU7 – U9 – U11 : jeux d’adresse et courseU13 – U15 : contre la montre et course \n\n\n\nDOSSARDS route des prairies 12h30 route des prairies à Anneyron \n\n\n\nDEPART idem 13H30
URL:https://www.club-c2s.org/event/ecole-de-cyclisme-rencontre-des-ecole-de-cyclisme-anneyron-samedi-20-avril-2024v-c-rambertois-ecole-de-route-anneyron/
END:VEVENT
BEGIN:VEVENT
DTSTART;TZID=Europe/Paris:20240421T080000
DTEND;TZID=Europe/Paris:20240421T170000
DTSTAMP:20260424T234057
CREATED:20240402T073151Z
LAST-MODIFIED:20240402T073153Z
UID:6779-1713686400-1713718800@www.club-c2s.org
SUMMARY:U17 - PRIX DU PRINTEMPS dimanche 21 avril 2024V.C. CLUSES SCIONZIER U17et Femmes JSSCIONZIER
DESCRIPTION:https://framadate.org/XR3ejVuG6po5mKIu \n\n\n\nDESCRIPTION  \n\n\n\nINFORMATIONS ET RESULTATS \n\n\n\nSCIONZIER – PX DU PRINTEMPS U17 [74] V.C. CLUSES SCIONZIER \n\n\n\nCIRCUIT : 52.8 km sur 12 tours \n\n\n\nDOSSARDS :   12h30 – 50 avenue de la Libération – Scionzier \n\n\n\nDEPART : 13h30
URL:https://www.club-c2s.org/event/u17-prix-du-printemps-dimanche-21-avril-2024v-c-cluses-scionzier-u17et-femmes-jsscionzier/
END:VEVENT
BEGIN:VEVENT
DTSTART;TZID=Europe/Paris:20240427T080000
DTEND;TZID=Europe/Paris:20240427T170000
DTSTAMP:20260424T234057
CREATED:20240210T144607Z
LAST-MODIFIED:20240210T144609Z
UID:6748-1714204800-1714237200@www.club-c2s.org
SUMMARY:Trophée National du Jeune pistard
DESCRIPTION:https://framadate.org/Bh2PLQcuDCW8BO2r \n\n\n\nhttps://patbillet0.wixsite.com/tnjp42
URL:https://www.club-c2s.org/event/trophee-national-du-jeune-pistard/
END:VEVENT
BEGIN:VEVENT
DTSTART;TZID=Europe/Paris:20240428T080000
DTEND;TZID=Europe/Paris:20240428T170000
DTSTAMP:20260424T234057
CREATED:20240402T073721Z
LAST-MODIFIED:20240402T073723Z
UID:6781-1714291200-1714323600@www.club-c2s.org
SUMMARY:U17- LA MOTTE SERVOLEX - CHAMPIONNAT SAVOIE HTE SAVOIE dimanche 28 avril 2024 LA MOTTE SERVOLEX CYCLISMEU17et Femmes JSLA MOTTE SERVOLEX
DESCRIPTION:https://framadate.org/sbqUWhkqe1HHT3H7 \n\n\n\nDESCRIPTION  \n\n\n\nINFORMATIONS ET RESULTATS \n\n\n\n LA MOTTE SERVOLEX [73]  U17 \n\n\n\nCIRCUIT: 2\,2km x 24 tours DISTANCE: 53 km \n\n\n\nDOSSARDS: 14H45 à 15h15 Rue Denis Papin devant super U  \n\n\n\nDEPART: 15h30 – idem
URL:https://www.club-c2s.org/event/u17-la-motte-servolex-championnat-savoie-hte-savoie-dimanche-28-avril-2024-la-motte-servolex-cyclismeu17et-femmes-jsla-motte-servolex/
END:VEVENT
BEGIN:VEVENT
DTSTART;TZID=Europe/Paris:20240428T080000
DTEND;TZID=Europe/Paris:20240428T170000
DTSTAMP:20260424T234057
CREATED:20240402T073913Z
LAST-MODIFIED:20240402T073915Z
UID:6783-1714291200-1714323600@www.club-c2s.org
SUMMARY:U15 - LA MOTTE SERVOLEX - CHAMPIONNAT SAVOIE HTE SAVOIEdimanche 28 avril 2024LA MOTTE SERVOLEX CYCLISMEU15 et Femmes U15 U17LA MOTTE SERVOLEX
DESCRIPTION:https://framadate.org/sbqUWhkqe1HHT3H7 \n\n\n\nDESCRIPTION  \n\n\n\nINFORMATIONS ET RESULTATS \n\n\n\nLA MOTTE SERVOLEX [73] LA MOTTE SERVOLEX CYCLISME U15 \n\n\n\nCIRCUIT : 2\,2km x 15 tours DISTANCE: 33km \n\n\n\nDOSSARDS:  12H45 à 13h15 – avenue René Cassin près Super U \n\n\n\nDEPART: 13h30 – idem \n\n\n\nEngagements par internet: https://maj.ffc.fr/maj/ 7\,5€  \n\n\n\nCONTACT JP SALLES LAFONT 0617921426 jfslmfv@club-internet.fr \n\n\n\nGRILLE 61/8 
URL:https://www.club-c2s.org/event/u15-la-motte-servolex-championnat-savoie-hte-savoiedimanche-28-avril-2024la-motte-servolex-cyclismeu15-et-femmes-u15-u17la-motte-servolex/
END:VEVENT
BEGIN:VEVENT
DTSTART;TZID=Europe/Paris:20240428T080000
DTEND;TZID=Europe/Paris:20240428T170000
DTSTAMP:20260424T234057
CREATED:20240402T074032Z
LAST-MODIFIED:20240402T074034Z
UID:6785-1714291200-1714323600@www.club-c2s.org
SUMMARY:ECOLES DE CYCLISME - LA MOTTE SERVOLEX - U7 A U13 dimanche 28 avril 2024LA MOTTE SERVOLEX CYCLISME Ecoles de cyclisme LA MOTTE SERVOLEX
DESCRIPTION:https://framadate.org/sbqUWhkqe1HHT3H7 \n\n\n\nDESCRIPTION  \n\n\n\nINFORMATIONS ET RESULTATS \n\n\n\nouverte uniquement jusqu’aux U13 \n\n\n\ncircuit plat  2.2 km \n\n\n\nDOSSARDS : 8h45 à 9h15 Avenue René Cassin près Super U \n\n\n\nDEPART : 9h30 idem et 10h30 \n\n\n\nENGAGEMENTS : https://maj.ffc.fr/maj/ \n\n\n\nCONTACT jfslmfv@club-internet.fr  tel 0617921426
URL:https://www.club-c2s.org/event/ecoles-de-cyclisme-la-motte-servolex-u7-a-u13-dimanche-28-avril-2024la-motte-servolex-cyclisme-ecoles-de-cyclisme-la-motte-servolex/
END:VEVENT
END:VCALENDAR