BEGIN:VCALENDAR
VERSION:2.0
PRODID:-//Club-C2S - ECPv6.15.20//NONSGML v1.0//EN
CALSCALE:GREGORIAN
METHOD:PUBLISH
X-WR-CALNAME:Club-C2S
X-ORIGINAL-URL:https://www.club-c2s.org
X-WR-CALDESC:Évènements pour Club-C2S
REFRESH-INTERVAL;VALUE=DURATION:PT1H
X-Robots-Tag:noindex
X-PUBLISHED-TTL:PT1H
BEGIN:VTIMEZONE
TZID:Europe/Paris
BEGIN:DAYLIGHT
TZOFFSETFROM:+0100
TZOFFSETTO:+0200
TZNAME:CEST
DTSTART:20230326T010000
END:DAYLIGHT
BEGIN:STANDARD
TZOFFSETFROM:+0200
TZOFFSETTO:+0100
TZNAME:CET
DTSTART:20231029T010000
END:STANDARD
BEGIN:DAYLIGHT
TZOFFSETFROM:+0100
TZOFFSETTO:+0200
TZNAME:CEST
DTSTART:20240331T010000
END:DAYLIGHT
BEGIN:STANDARD
TZOFFSETFROM:+0200
TZOFFSETTO:+0100
TZNAME:CET
DTSTART:20241027T010000
END:STANDARD
BEGIN:DAYLIGHT
TZOFFSETFROM:+0100
TZOFFSETTO:+0200
TZNAME:CEST
DTSTART:20250330T010000
END:DAYLIGHT
BEGIN:STANDARD
TZOFFSETFROM:+0200
TZOFFSETTO:+0100
TZNAME:CET
DTSTART:20251026T010000
END:STANDARD
END:VTIMEZONE
BEGIN:VEVENT
DTSTART;TZID=Europe/Paris:20240301T080000
DTEND;TZID=Europe/Paris:20240301T170000
DTSTAMP:20260424T220441
CREATED:20240326T082407Z
LAST-MODIFIED:20240326T082409Z
UID:6771-1709280000-1709312400@www.club-c2s.org
SUMMARY:OPEN 2/3 - PRIX DE VILLETTE SUR AIN "SOUVENIR JEAN CLAPISSON" lundi 1 avril 2024 VELO CLUB D'AMBERIEU OPEN 2/3 VILLETTE SUR AIN
DESCRIPTION:https://framadate.org/chU7F6Zn5c3SDlvc \n\n\n\nDESCRIPTION  \n\n\n\nINFORMATIONS ET RESULTATS \n\n\n\nVILLETTE SUR AIN Souvenir Jean CLAPISSON [01] VELO CLUB D’AMBERIEU Cat OPEN 2 & 3 \n\n\n\nCIRCUIT : 6.6 km x 14 tours DISTANCE : 92\,4km \n\n\n\nDOSSARDS : devant l’Eglise rue du lavoir à 13H15 \n\n\n\nDEPART : 14H45 Rue de l’Eglise \n\n\n\nEngagements par internet : https://maj.ffc.fr/maj/  12\,00 € ; sur place +2 € \n\n\n\nGRILLE 185/10 \n\n\n\nCONTACT : vcamberieu@gmail.com tel 0660101605
URL:https://www.club-c2s.org/event/open-2-3-prix-de-villette-sur-ain-souvenir-jean-clapisson-lundi-1-avril-2024-velo-club-damberieu-open-2-3-villette-sur-ain/
END:VEVENT
BEGIN:VEVENT
DTSTART;TZID=Europe/Paris:20240303T080000
DTEND;TZID=Europe/Paris:20240303T170000
DTSTAMP:20260424T220441
CREATED:20240210T141239Z
LAST-MODIFIED:20240210T141240Z
UID:6719-1709452800-1709485200@www.club-c2s.org
SUMMARY:ECOLE DE ROUTE u15- GRAND PRIX DE CHAVANOZ dimanche 3 mars 2024 CHARVIEU CHAVAGNEUX I.C. Ecole de route CHAVANOZ
DESCRIPTION:https://framadate.org/CF6YKPORgh1hrmSj \n\n\n\n \n\n\n\nDESCRIPTION  \n\n\n\nCHAVANOZ [38] CHARVIEU CHAVAGNEUX I.C. Ecole de Cyclisme \n\n\n\nLa course des U15 se faisant dans le cadre de l’école de cyclisme les U17 Femmes ne sont pas admises à courir \n\n\n\nDOSSARDS : Salle Marguel à 10h30 \n\n\n\nDEPART : 11H30 distance en fonction des catégories \n\n\n\nENGAGEMENTS par internet: https://maj.ffc.fr/maj/ ou dans votre espace club \n\n\n\nCONTACT : tel 06/44/88/37/77 yrvin.robinet.ccic38@gmail.com
URL:https://www.club-c2s.org/event/ecole-de-route-u15-grand-prix-de-chavanoz-dimanche-3-mars-2024-charvieu-chavagneux-i-c-ecole-de-route-chavanoz/
END:VEVENT
BEGIN:VEVENT
DTSTART;TZID=Europe/Paris:20240303T080000
DTEND;TZID=Europe/Paris:20240303T170000
DTSTAMP:20260424T220441
CREATED:20240210T141511Z
LAST-MODIFIED:20240210T141513Z
UID:6721-1709452800-1709485200@www.club-c2s.org
SUMMARY:OPEN 2/3 ACCES 1/2/3/4 - GRAND PRIX DE SAINT JAMES SOUVENIR ANDRE REBOUL - MONTELIMAR dimanche 3 mars 2024 SJVC MONTELIMAROPEN 2/3 ACCESS 1/2/3/4MONTELIMAR
DESCRIPTION:https://framadate.org/6hqGYjMFtMmOJ3b8 \n\n\n\nOPEN 2/3 ACCES 1/2/3/4 – GRAND PRIX DE SAINT JAMES SOUVENIR ANDRE REBOUL – MONTELIMAR dimanche 3 mars 2024SJVC MONTELIMAROPEN 2/3 ACCESS 1/2/3/4MONTELIMAR \n\n\n\nDESCRIPTION  \n\n\n\nCIRCUIT : 75 km sur 3 tours de 22 km + liaison circuit 2 x 3km \n\n\n\nDOSSARDS : 13H30 parking boulodrome route d’espeluche à Montelimar \n\n\n\nDEPART : 14h30 \n\n\n\nENGAGEMENTS : https://maj.ffc.fr/maj/ 14 € ; sur place + 2 € \n\n\n\nclôture des engagements sur place à 14h \n\n\n\nGRILLE 122/10 \n\n\n\nCONTACT : fredericfaure.sjvc@gmail.com tel 0607983288 \n\n\n\n \n\n\n\nDESCRIPTION  \n\n\n\nCIRCUIT : 75 km sur 3 tours de 22 km + liaison circuit 2 x 3km \n\n\n\nDOSSARDS : 13H30 parking boulodrome route d’espeluche à Montelimar \n\n\n\nDEPART : 14h30 \n\n\n\nENGAGEMENTS : https://maj.ffc.fr/maj/ 14 € ; sur place + 2 € \n\n\n\nclôture des engagements sur place à 14h \n\n\n\nGRILLE 122/10 \n\n\n\nCONTACT : fredericfaure.sjvc@gmail.com tel 0607983288
URL:https://www.club-c2s.org/event/open-2-3-acces-1-2-3-4-grand-prix-de-saint-james-souvenir-andre-reboul-montelimar-dimanche-3-mars-2024-sjvc-montelimaropen-2-3-access-1-2-3-4montelimar/
END:VEVENT
BEGIN:VEVENT
DTSTART;TZID=Europe/Paris:20240310T080000
DTEND;TZID=Europe/Paris:20240310T170000
DTSTAMP:20260424T220441
CREATED:20240210T141718Z
LAST-MODIFIED:20240210T141720Z
UID:6723-1710057600-1710090000@www.club-c2s.org
SUMMARY:ECOLE DE ROUTE - SARRAS ST VALLIER - CRITERIUM DES JEUNES - CYCLES SONIER dimanche 10 mars 2024 SARRAS ST VALLIER CYCLISME Ecole de route BEAUSSEMBLANT
DESCRIPTION:https://framadate.org/9BOELrmYErmXD6uA \n\n\n\nDESCRIPTION  \n\n\n\nINFORMATIONS ET RESULTATS \n\n\n\nCRITERIUM DES JEUNES- BEAUSEMBLANT – [07] SARRAS ST VALLIER CYCLISME 1ère manche du Trophée Drôme- Ardèche route \n\n\n\nEcoles de Cyclisme de PL à Minimes \n\n\n\nDOSSARDS : à partir de 12h30 à 13h15 place du Laurier  \n\n\n\nDEPART : 13h30 
URL:https://www.club-c2s.org/event/ecole-de-route-sarras-st-vallier-criterium-des-jeunes-cycles-sonier-dimanche-10-mars-2024-sarras-st-vallier-cyclisme-ecole-de-route-beaussemblant/
END:VEVENT
BEGIN:VEVENT
DTSTART;TZID=Europe/Paris:20240310T080000
DTEND;TZID=Europe/Paris:20240310T170000
DTSTAMP:20260424T220441
CREATED:20240210T141915Z
LAST-MODIFIED:20240210T141917Z
UID:6725-1710057600-1710090000@www.club-c2s.org
SUMMARY:FEMMES SENIORS U19 - GP CYCLISTE FÉMININ D'ALLEVARD LES BAINS - LA CHAPELLE DU BARD dimanche 10 mars 2024GRENOBLE METROPOLE CYCLISME 38 Femmes U19 Seniors ALLEVARD LES BAINS
DESCRIPTION:https://framadate.org/DAfzDrWTXb4V9aNX \n\n\n\nDESCRIPTION  \n\n\n\nINFORMATIONS ET RESULTATS \n\n\n\nCIRCUIT : 54.6 km sur 7 tours et 721m D+ \n\n\n\nDOSSARDS : 8h00 lac de Mirande \n\n\n\nDEPART : 9h02 \n\n\n\nENGAGEMENTS : https://maj.ffc.fr/maj/ 12 € +2 # sur place \n\n\n\nCONTACT : 0476256546 gmcyclisme38@gmail.com
URL:https://www.club-c2s.org/event/femmes-seniors-u19-gp-cycliste-feminin-dallevard-les-bains-la-chapelle-du-bard-dimanche-10-mars-2024grenoble-metropole-cyclisme-38-femmes-u19-seniors-allevard-les-bains/
END:VEVENT
BEGIN:VEVENT
DTSTART;TZID=Europe/Paris:20240310T080000
DTEND;TZID=Europe/Paris:20240310T170000
DTSTAMP:20260424T220441
CREATED:20240210T142041Z
LAST-MODIFIED:20240210T142043Z
UID:6727-1710057600-1710090000@www.club-c2s.org
SUMMARY:OPEN 3 ACCES 1/2/3/4 - GRAND PRIX CYCLISTE D ALLEVARD LES BAINS dimanche 10 mars 2024 GRENOBLE METROPOLE CYCLISME 38 OPEN 3 ACCESS 1/2/3/4ALLEVARD LES BAINS
DESCRIPTION:https://framadate.org/DAfzDrWTXb4V9aNX \n\n\n\n \n\n\n\nDESCRIPTION  \n\n\n\nINFORMATIONS ET RESULTATS  \n\n\n\nCIRCUIT : 62.4 km sur 8 tours et 824m D+ \n\n\n\nDOSSARDS : 10h00 lac de Mirande \n\n\n\nDEPART : 11h15 \n\n\n\nENGAGEMENTS : https://maj.ffc.fr/maj/ 12 € +2 # sur place \n\n\n\nCONTACT : 0476256546 gmcyclisme38@gmail.com 
URL:https://www.club-c2s.org/event/open-3-acces-1-2-3-4-grand-prix-cycliste-d-allevard-les-bains-dimanche-10-mars-2024-grenoble-metropole-cyclisme-38-open-3-access-1-2-3-4allevard-les-bains/
END:VEVENT
BEGIN:VEVENT
DTSTART;TZID=Europe/Paris:20240310T080000
DTEND;TZID=Europe/Paris:20240310T170000
DTSTAMP:20260424T220441
CREATED:20240210T142140Z
LAST-MODIFIED:20240210T142142Z
UID:6729-1710057600-1710090000@www.club-c2s.org
SUMMARY:ELITE OPEN 1/2 - GRAND PRIX CYCLISTE D ALLEVARD LES BAINS dimanche 10 mars 2024GRENOBLE METROPOLE CYCLISME 38 Elite Open 1/2ALLEVARD LES BAINS
DESCRIPTION:https://framadate.org/DAfzDrWTXb4V9aNX \n\n\n\nDESCRIPTION  \n\n\n\nINFORMATIONS ET RESULTATS  \n\n\n\nCIRCUIT : 124.8 km sur 16 tours \n\n\n\nDOSSARDS : 13h00 lac de Mirande \n\n\n\nDEPART : 14h00 \n\n\n\nENGAGEMENTS : https://maj.ffc.fr/maj/ 12 € ; + 2€ sur place  \n\n\n\nGRILLE 503/10 \n\n\n\nCONTACT : 0476256546 gmcyclisme38@gmail.com
URL:https://www.club-c2s.org/event/elite-open-1-2-grand-prix-cycliste-d-allevard-les-bains-dimanche-10-mars-2024grenoble-metropole-cyclisme-38-elite-open-1-2allevard-les-bains/
END:VEVENT
BEGIN:VEVENT
DTSTART;TZID=Europe/Paris:20240310T080000
DTEND;TZID=Europe/Paris:20240310T170000
DTSTAMP:20260424T220441
CREATED:20240210T142233Z
LAST-MODIFIED:20240210T142235Z
UID:6731-1710057600-1710090000@www.club-c2s.org
SUMMARY:U17 - GRAND PRIX D ALLEVARD LES BAINSdimanche 10 mars 2024 GRENOBLE METROPOLE CYCLISME 38U17 ALLEVARD LES BAINS
DESCRIPTION:https://framadate.org/DAfzDrWTXb4V9aNX \n\n\n\nDESCRIPTION  \n\n\n\nINFORMATIONS ET RESULTATS  \n\n\n\nCIRCUIT : 54.6 km sur 7 tours \n\n\n\nDOSSARDS : 08h00 lac de Mirande \n\n\n\nDEPART : 09h00 \n\n\n\nENGAGEMENTS : https://maj.ffc.fr/maj/ 7.5 € ; sur place + 2 €  \n\n\n\nCONTACT : 0476256546 gmcyclisme38@gmail.com
URL:https://www.club-c2s.org/event/u17-grand-prix-d-allevard-les-bainsdimanche-10-mars-2024-grenoble-metropole-cyclisme-38u17-allevard-les-bains/
END:VEVENT
BEGIN:VEVENT
DTSTART;TZID=Europe/Paris:20240317T080000
DTEND;TZID=Europe/Paris:20240317T170000
DTSTAMP:20260424T220441
CREATED:20240210T142407Z
LAST-MODIFIED:20240210T142408Z
UID:6733-1710662400-1710694800@www.club-c2s.org
SUMMARY:U17- PRIX DE LA VILLE D'AUBENAS dimanche 17 mars 2024U.C. ALBENASSIENNEU17et Femmes JSAUBENAS
DESCRIPTION:https://framadate.org/1bZfJK2JWVXYhmkE \n\n\n\nDESCRIPTION  \n\n\n\nU.C. ALBENASSIENNE U17 \n\n\n\nDISTANCE : 64 km \n\n\n\nDOSSARDS : 13H00 lycée agricole chemin de St Martin à Aubenas \n\n\n\nDEPART : 14H30 Idem \n\n\n\nEngagements par internet: https://maj.ffc.fr/maj/ 7\,5€ ; sur place +2.5 € \n\n\n\nContact : Mr CHICOURAS Jean Pierre 06/76/70/71/77 
URL:https://www.club-c2s.org/event/u17-prix-de-la-ville-daubenas-dimanche-17-mars-2024u-c-albenassienneu17et-femmes-jsaubenas/
END:VEVENT
BEGIN:VEVENT
DTSTART;TZID=Europe/Paris:20240317T080000
DTEND;TZID=Europe/Paris:20240317T170000
DTSTAMP:20260424T220441
CREATED:20240210T142510Z
LAST-MODIFIED:20240210T142512Z
UID:6735-1710662400-1710694800@www.club-c2s.org
SUMMARY:OPEN 3 ACCESS 1/2/3/4 - PRIX DE LA VILLE D'AUBENAS dimanche 17 mars 2024U.C. ALBENASSIENNE OPEN 3 ACCESS 1/2/3/4 AUBENAS
DESCRIPTION:https://framadate.org/1bZfJK2JWVXYhmkE \n\n\n\nDESCRIPTION  \n\n\n\nU.C. ALBENASSIENNE OPEN 3 ACCESS 1/2/3/4 \n\n\n\nDISTANCE : 64 km \n\n\n\nDOSSARDS : 13H00 lycée agricole chemin de St Martin à Aubenas \n\n\n\nDEPART : 14H20 – idem \n\n\n\nEngagements par internet: https://maj.ffc.fr/maj/  10 € ; sur place + 2 € \n\n\n\nPrix nature    \n\n\n\nCONTACT jeanpierre.chicouras@sfr.fr tel 0676707177
URL:https://www.club-c2s.org/event/open-3-access-1-2-3-4-prix-de-la-ville-daubenas-dimanche-17-mars-2024u-c-albenassienne-open-3-access-1-2-3-4-aubenas/
END:VEVENT
BEGIN:VEVENT
DTSTART;TZID=Europe/Paris:20240317T080000
DTEND;TZID=Europe/Paris:20240317T170000
DTSTAMP:20260424T220441
CREATED:20240210T142752Z
LAST-MODIFIED:20240210T142754Z
UID:6738-1710662400-1710694800@www.club-c2s.org
SUMMARY:U15- PRIX DE LA VILLE D'AUBENAS   dimanche 17 mars 2024U.C. ALBENASSIENNE U15 et Femmes U15 U17AUBENAS
DESCRIPTION:https://framadate.org/1bZfJK2JWVXYhmkE\n\n\n\n\nDESCRIPTION  \n\n\n\nU.C. ALBENASSIENNE U15 Hommes \n\n\n\nCIRCUIT: 2.6 km sur 8 tours soit 20.8 km \n\n\n\nDOSSARDS : de 13H00  lycée agricole chemin de St Martin à Aubenas \n\n\n\nDEPART : 14H40 idem \n\n\n\nEngagements par internet https://maj.ffc.fr/maj/  7\,5€ ; sur place +2.5 € \n\n\n\nPrix en nature 
URL:https://www.club-c2s.org/event/u15-prix-de-la-ville-daubenas-dimanche-17-mars-2024u-c-albenassienne-u15-et-femmes-u15-u17aubenas/
END:VEVENT
BEGIN:VEVENT
DTSTART;TZID=Europe/Paris:20240317T080000
DTEND;TZID=Europe/Paris:20240317T170000
DTSTAMP:20260424T220441
CREATED:20240210T143847Z
LAST-MODIFIED:20240210T143849Z
UID:6744-1710662400-1710694800@www.club-c2s.org
SUMMARY:ECOLE VTT - TDJV RHONE AIN dimanche 17 mars 2024 CLUB VTT D'IRIGNY (JSI)Ecoles de cyclisme et U17IRIGNY
DESCRIPTION:https://framadate.org/PiVcG1VgTCnJADCt \n\n\n\nDESCRIPTION  \n\n\n\nTROPHEE DEPARTEMENTAL DU JEUNE VETETISTE de 7 à 16 ans \n\n\n\nDossards 9h00 Bike park de la pinée 22 rue du vieux port à IRIGNY \n\n\n\nDépart 10h00 Idem
URL:https://www.club-c2s.org/event/ecole-vtt-tdjv-rhone-ain-dimanche-17-mars-2024-club-vtt-dirigny-jsiecoles-de-cyclisme-et-u17irigny/
END:VEVENT
BEGIN:VEVENT
DTSTART;TZID=Europe/Paris:20240324T080000
DTEND;TZID=Europe/Paris:20240324T170000
DTSTAMP:20260424T220441
CREATED:20240210T143519Z
LAST-MODIFIED:20240210T143521Z
UID:6740-1711267200-1711299600@www.club-c2s.org
SUMMARY:ECOLE DE ROUTE - GP ALPESPACE CYCLE ESPACE EC dimanche 24 mars 2024U.C PONTCHARRA Ecole de route PONTCHARRA
DESCRIPTION:https://framadate.org/kERfVZgqeMUTegZd \n\n\n\nDESCRIPTION  \n\n\n\n(73) GD PX CYCLE ESPACE EC U.C. PONTCHARRA Ecole de Cyclisme \n\n\n\nCIRCUIT :  \n\n\n\nU7-U9: Jeux cycliste parking JF Champollion \n\n\n\nU11-U13-U15 : sprints avenue Christophe Colomb \n\n\n\nU7-U9 : petit circuit de 1.2kms \n\n\n\nU11-U13-U15 : Grand circuit de 5.3kms \n\n\n\nDOSSARDS :  \n\n\n\nDEPART :  \n\n\n\nEngagements par internet: http://maj.ffc.fr/Maj/  \n\n\n\nCONTACT 07/66/04/75/21 stephane.bocquier@sfr.fr
URL:https://www.club-c2s.org/event/ecole-de-route-gp-alpespace-cycle-espace-ec-dimanche-24-mars-2024u-c-pontcharra-ecole-de-route-pontcharra/
END:VEVENT
BEGIN:VEVENT
DTSTART;TZID=Europe/Paris:20240324T080000
DTEND;TZID=Europe/Paris:20240324T170000
DTSTAMP:20260424T220441
CREATED:20240210T143655Z
LAST-MODIFIED:20240210T143656Z
UID:6742-1711267200-1711299600@www.club-c2s.org
SUMMARY:U17 - ANNEMASSE BELLEGARDE dimanche 24 mars 2024V.C. ANNEMASSEU17ANNEMASSE
DESCRIPTION:https://framadate.org/vIiJoUFGYhEoq1H5 \n\n\n\nDESCRIPTION  \n\n\n\nINFORMATIONS ET RESULTATS \n\n\n\nV.C. ANNEMASSE Cadets \n\n\n\nCIRCUIT :  66 km  \n\n\n\nDOSSARDS : de 9h00 à 10h30  Maison des sports \n\n\n\nDEPART : 12h – Ave Jules Ferry \n\n\n\nENGAGEMENTS par internet: https://maj.ffc.fr/maj/  7\,5€ \n\n\n\nCONTACT  0611960984 info@veloclubannemasse.com
URL:https://www.club-c2s.org/event/u17-annemasse-bellegarde-dimanche-24-mars-2024v-c-annemasseu17annemasse/
END:VEVENT
BEGIN:VEVENT
DTSTART;TZID=Europe/Paris:20240324T080000
DTEND;TZID=Europe/Paris:20240324T170000
DTSTAMP:20260424T220441
CREATED:20240210T144021Z
LAST-MODIFIED:20240210T144023Z
UID:6746-1711267200-1711299600@www.club-c2s.org
SUMMARY:ECOLE DE CYLISME - TROPHEE DEPARTEMENTAL DES JEUNES VETETISTES RHONE dimanche 24 mars 2024 POMMIERS VTT Ecoles de cyclisme et U17POMMIERS
DESCRIPTION:https://framadate.org/4cAXR53OAMq3PEod \n\n\n\nDESCRIPTION  \n\n\n\nINFOMATIONS ET RESULTATS  \n\n\n\nStade à Pommiers 69 \n\n\n\nDOSSARDS : 8h30 stade de foot à Pommiers \n\n\n\nDEPART : 10h00  \n\n\n\nENGAGEMENTS : http://maj.ffc.fr/Maj/ licencié 5 €  \n\n\n\nCONTACT : e.gargallo@danfoss.com 06/30/50/19/03
URL:https://www.club-c2s.org/event/ecole-de-cylisme-trophee-departemental-des-jeunes-vetetistes-rhone-dimanche-24-mars-2024-pommiers-vtt-ecoles-de-cyclisme-et-u17pommiers/
END:VEVENT
BEGIN:VEVENT
DTSTART;TZID=Europe/Paris:20240331T080000
DTEND;TZID=Europe/Paris:20240331T170000
DTSTAMP:20260424T220441
CREATED:20240306T165745Z
LAST-MODIFIED:20240306T165747Z
UID:6753-1711872000-1711904400@www.club-c2s.org
SUMMARY:OPEN 1/2/3 - PRIX CYCLISTE D EURRE (26)dimanche 31 mars 2024U.C. MONTMEYRAN VALENCEOPEN 1/2/3EURRE
DESCRIPTION:https://framadate.org/yuwB8mCHXWJfN7IW \n\n\n\n\n\n\n\nINFORMATIONS ET RESULTATS  \n\n\n\nCIRCUIT : 103.8 km sur 17 tours \n\n\n\nDOSSARDS : 13h00 route de Tripette Est \n\n\n\nDEPART : 14h00 \n\n\n\nENGAGEMENTS : https://maj.ffc.fr/maj/ 11 € ; sur place  + 2 € \n\n\n\ngrille 228/5
URL:https://www.club-c2s.org/event/open-1-2-3-prix-cycliste-d-eurre-26dimanche-31-mars-2024u-c-montmeyran-valenceopen-1-2-3eurre/
END:VEVENT
END:VCALENDAR