BEGIN:VCALENDAR
VERSION:2.0
PRODID:-//Club-C2S - ECPv6.15.20//NONSGML v1.0//EN
CALSCALE:GREGORIAN
METHOD:PUBLISH
X-ORIGINAL-URL:https://www.club-c2s.org
X-WR-CALDESC:Évènements pour Club-C2S
REFRESH-INTERVAL;VALUE=DURATION:PT1H
X-Robots-Tag:noindex
X-PUBLISHED-TTL:PT1H
BEGIN:VTIMEZONE
TZID:Europe/Paris
BEGIN:DAYLIGHT
TZOFFSETFROM:+0100
TZOFFSETTO:+0200
TZNAME:CEST
DTSTART:20220327T010000
END:DAYLIGHT
BEGIN:STANDARD
TZOFFSETFROM:+0200
TZOFFSETTO:+0100
TZNAME:CET
DTSTART:20221030T010000
END:STANDARD
BEGIN:DAYLIGHT
TZOFFSETFROM:+0100
TZOFFSETTO:+0200
TZNAME:CEST
DTSTART:20230326T010000
END:DAYLIGHT
BEGIN:STANDARD
TZOFFSETFROM:+0200
TZOFFSETTO:+0100
TZNAME:CET
DTSTART:20231029T010000
END:STANDARD
BEGIN:DAYLIGHT
TZOFFSETFROM:+0100
TZOFFSETTO:+0200
TZNAME:CEST
DTSTART:20240331T010000
END:DAYLIGHT
BEGIN:STANDARD
TZOFFSETFROM:+0200
TZOFFSETTO:+0100
TZNAME:CET
DTSTART:20241027T010000
END:STANDARD
END:VTIMEZONE
BEGIN:VEVENT
DTSTART;TZID=Europe/Paris:20231203T080000
DTEND;TZID=Europe/Paris:20231203T170000
DTSTAMP:20260424T175829
CREATED:20231112T211256Z
LAST-MODIFIED:20231112T211257Z
UID:6695-1701590400-1701622800@www.club-c2s.org
SUMMARY:TOUTES CATÉGORIES - CYCLO CROSS DE BOURG LES VALENCE dimanche 3 décembre 2023 S.C. BOURG LES VALENCE Toutes catégories BOURG LES VALENCE
DESCRIPTION:https://framadate.org/nH6M2CexVsuxzSy6 \n\n\n\nDESCRIPTION  \n\n\n\nCYCLO CROSS DE BOURG LES VALENCE [26] SC BOURG LES VALENCE Cyclo Cross \n\n\n\nCircuit de 1.9 Km  \n\n\n\nECOLE DE CYCLISME \n\n\n\nDOSSARDS: 9h30 \n\n\n\nDEPART: 10h30 \n\n\n\nEngagements par internet: https://maj.ffc.fr/maj/ \n\n\n\nCONTACT Gilles DELHOMME 07 49 61 32 33 \n\n\n\nU15 \n\n\n\nDOSSARDS: 09H30  \n\n\n\nDEPART: 11h55 \n\n\n\nEngagements par internet: https://maj.ffc.fr/maj/ 7.5 € \n\n\n\nCONTACT Gilles DELHOMME 07 49 61 32 33 \n\n\n\nU17 \n\n\n\nDOSSARDS: 12H00 \n\n\n\nDEPART: 13H30 \n\n\n\nEngagements par internet: https://maj.ffc.fr/maj/ 7.50 € \n\n\n\nCONTACT Gilles DELHOMME 07 49 61 32 33 \n\n\n\nU19 \n\n\n\nDOSSARDS: 13H00 \n\n\n\nDEPART: 14H35 \n\n\n\nEngagements par internet: https://maj.ffc.fr/maj/ 12 € \n\n\n\nCONTACT Gilles DELHOMME 07 49 61 32 33 \n\n\n\nELITE ET U23 \n\n\n\nDOSSARDS: 13H00 \n\n\n\nDEPART: 15h30 \n\n\n\nEngagements par internet: https://maj.ffc.fr/maj/ 12 € \n\n\n\nCONTACT Gilles DELHOMME 07 49 61 32 33 email sprinterclubblv@gmail.com 
URL:https://www.club-c2s.org/event/toutes-categories-cyclo-cross-de-bourg-les-valence-dimanche-3-decembre-2023-s-c-bourg-les-valence-toutes-categories-bourg-les-valence/
END:VEVENT
BEGIN:VEVENT
DTSTART;TZID=Europe/Paris:20231217T080000
DTEND;TZID=Europe/Paris:20231217T170000
DTSTAMP:20260424T175829
CREATED:20231211T080808Z
LAST-MODIFIED:20231211T080810Z
UID:6711-1702800000-1702832400@www.club-c2s.org
SUMMARY:TOUTES CATÉGORIES - CYCLO CROSS DE CORBAS dimanche 17 décembre 2023 CORBAS LYON METROPOLE Toutes catégories CORBAS
DESCRIPTION:https://framadate.org/fiX4L8FdIIp4EyRh \n\n\n\n \n\n\n\nDESCRIPTION  \n\n\n\nCircuit de 2.3Kms doubles plancges pour les catégories u17 et plus \n\n\n\nEntrée visiteurs : rue Ningesseret côté parc de loisir de Corbas \n\n\n\nEntrée équipes : route de Marennes/Corbas portail espace vert ; appeler en amont 0686712306 pour autorisation \n\n\n\nEcoles de cyclisme \n\n\n\nDossards : 09h30 \n\n\n\nDépart : 10h30 \n\n\n\nEngagements : https://maj.ffc.fr/maj/  \n\n\n\nU15 \n\n\n\nDossards : 09H30 \n\n\n\nDépart : 10H30 \n\n\n\nEngagements : https://maj.ffc.fr/maj/ 7.5 € \n\n\n\nU17 \n\n\n\nDossards : 11H45 \n\n\n\nDépart : 12H45 \n\n\n\nEngagements : https://maj.ffc.fr/maj/ 7.50 € \n\n\n\nGrille 91/5 \n\n\n\nU19 \n\n\n\nDossards : 13H00 \n\n\n\nDépart : 14H00 \n\n\n\nEngagements : https://maj.ffc.fr/maj/ 11 € \n\n\n\nGrille 183/10 \n\n\n\nELITE ET U23 \n\n\n\nDossards : 14h00 \n\n\n\nDépart : 15h00 \n\n\n\nEngagements : https://maj.ffc.fr/maj/ 11 € \n\n\n\nGrille 320/10
URL:https://www.club-c2s.org/event/toutes-categories-cyclo-cross-de-corbas-dimanche-17-decembre-2023-corbas-lyon-metropole-toutes-categories-corbas/
END:VEVENT
BEGIN:VEVENT
DTSTART;TZID=Europe/Paris:20231229T080000
DTEND;TZID=Europe/Paris:20231229T170000
DTSTAMP:20260424T175829
CREATED:20231211T081037Z
LAST-MODIFIED:20231211T081039Z
UID:6713-1703836800-1703869200@www.club-c2s.org
SUMMARY:TOUTES CATÉGORIES - CYCLO CROSS DE CHARVIEU CHAVAGNEUX vendredi 29 décembre 2023 CHARVIEU CHAVAGNEUX I.C.Toutes catégories CHARVIEU CHAVAGNEUX
DESCRIPTION:https://framadate.org/mDIcRdEeqNPxaMWm \n\n\n\nDESCRIPTION  \n\n\n\nELITE ET U23 \n\n\n\nDOSSARDS : lac de Fréminville RD 517  14H001 \n\n\n\nDEPART : lac de Fréminville RD 517  15h15 \n\n\n\nENGAGEMENTS : site https://maj.ffc.fr/maj/  10 €  sur place  + 2€ \n\n\n\nGRILLE 381/15  \n\n\n\n   \n\n\n\nU19 et FEMMES \n\n\n\nDOSSARDS : lace de Fréminville RD 517  13h00 \n\n\n\nDEPART : lac de Fréminville  RD 517  14h05 \n\n\n\nENGAGEMENTS : site https://maj.ffc.fr/maj/  10 €  sur place + 2 € \n\n\n\nGRILLE 183/10 X 2  \n\n\n\n \n\n\n\nU17 et FEMMES \n\n\n\nDOSSARDS : lac de Fréminville RD 517  12H00 \n\n\n\nDEPART : lac de Fréminville RD 517 13H05 \n\n\n\nENGAGEMENTS : site https://maj.ffc.fr/maj/  7.5 €  sur place + 2 € \n\n\n\nGRILLE 91/5 X 2 \n\n\n\nU15 et FEMMES \n\n\n\nDOSSARDS : lac de Fréminville RD 517  11h15 \n\n\n\nDEPART : lac de Fréminville RD 517 12H15 \n\n\n\nENGAGEMENTS : site https://maj.ffc.fr/maj/  7.5 €  sur place + 2 € \n\n\n\n \n\n\n\nECOLE DE CYCLISME \n\n\n\nDOSSARDS : lac de Fréminville RD 517  10h00 \n\n\n\nDEPART : lac de Fréminville RD 517  11h15 \n\n\n\nENGAGEMENTS : site https://maj.ffc.fr/maj/ 
URL:https://www.club-c2s.org/event/toutes-categories-cyclo-cross-de-charvieu-chavagneux-vendredi-29-decembre-2023-charvieu-chavagneux-i-c-toutes-categories-charvieu-chavagneux/
END:VEVENT
END:VCALENDAR