BEGIN:VCALENDAR
VERSION:2.0
PRODID:-//Club-C2S - ECPv6.15.20//NONSGML v1.0//EN
CALSCALE:GREGORIAN
METHOD:PUBLISH
X-WR-CALNAME:Club-C2S
X-ORIGINAL-URL:https://www.club-c2s.org
X-WR-CALDESC:Évènements pour Club-C2S
REFRESH-INTERVAL;VALUE=DURATION:PT1H
X-Robots-Tag:noindex
X-PUBLISHED-TTL:PT1H
BEGIN:VTIMEZONE
TZID:Europe/Paris
BEGIN:DAYLIGHT
TZOFFSETFROM:+0100
TZOFFSETTO:+0200
TZNAME:CEST
DTSTART:20220327T010000
END:DAYLIGHT
BEGIN:STANDARD
TZOFFSETFROM:+0200
TZOFFSETTO:+0100
TZNAME:CET
DTSTART:20221030T010000
END:STANDARD
BEGIN:DAYLIGHT
TZOFFSETFROM:+0100
TZOFFSETTO:+0200
TZNAME:CEST
DTSTART:20230326T010000
END:DAYLIGHT
BEGIN:STANDARD
TZOFFSETFROM:+0200
TZOFFSETTO:+0100
TZNAME:CET
DTSTART:20231029T010000
END:STANDARD
BEGIN:DAYLIGHT
TZOFFSETFROM:+0100
TZOFFSETTO:+0200
TZNAME:CEST
DTSTART:20240331T010000
END:DAYLIGHT
BEGIN:STANDARD
TZOFFSETFROM:+0200
TZOFFSETTO:+0100
TZNAME:CET
DTSTART:20241027T010000
END:STANDARD
END:VTIMEZONE
BEGIN:VEVENT
DTSTART;TZID=Europe/Paris:20231101T080000
DTEND;TZID=Europe/Paris:20231101T170000
DTSTAMP:20260424T161244
CREATED:20231002T065308Z
LAST-MODIFIED:20231002T065310Z
UID:6671-1698825600-1698858000@www.club-c2s.org
SUMMARY:cyclocross de Belleville - Toutes catégories
DESCRIPTION:https://framadate.org/mDA3vKQ6ePR7vquJ \n\n\n\n\n\nTOUTES CATÉGORIES – BELLEVILLE – CYCLO CROSS DU LAC DES SABLONS mercredi 1 novembre 2023 U.C. BELLEVILLOISEToutes catégoriesBELLEVILLE \n\n\n\nDESCRIPTION  \n\n\n\nEPREUVE TROPHEE TERRITORIAL 01.26.38.69.73.74 \n\n\n\nELITE ET U23 \n\n\n\nCIRCUIT autour du lac selon catégorie \n\n\n\nDOSSARDS: 14H DEPART: 15H00  \n\n\n\nENGAGEMENTS : site https://maj.ffc.fr/maj/ 10 €  \n\n\n\nGRILLE 274/15 \n\n\n\n \n\n\n\nU19 \n\n\n\nCIRCUIT autour du lac selon catégorie \n\n\n\nDOSSARDS: 12H30 DEPART: 13H30  \n\n\n\nENGAGEMENTS : site https://maj.ffc.fr/maj/ 10 €  \n\n\n\nGRILLE N°91/8 \n\n\n\n  \n\n\n\nU 17 \n\n\n\nDOSSARDS: 11H00 DEPART: 12H00  \n\n\n\nENGAGEMENTS : site https://maj.ffc.fr/maj/7.5 €  \n\n\n\nU 15 \n\n\n\nDOSSARDS: 10H00 DEPART: 11H15  \n\n\n\nENGAGEMENTS : site https://maj.ffc.fr/maj/7.5 €  \n\n\n\n \n\n\n\nECOLES DE CYCLISME. \n\n\n\nDOSSARDS: 9H30  \n\n\n\nDEPART: 10H30 
URL:https://www.club-c2s.org/event/cyclocross-de-belleville-toutes-categories/
END:VEVENT
BEGIN:VEVENT
DTSTART;TZID=Europe/Paris:20231104T080000
DTEND;TZID=Europe/Paris:20231104T170000
DTSTAMP:20260424T161244
CREATED:20231002T065554Z
LAST-MODIFIED:20231002T065556Z
UID:6673-1699084800-1699117200@www.club-c2s.org
SUMMARY:cyclocross de Meyzieu
DESCRIPTION:https://framadate.org/FtZsdDXA6Bn7tHDP \n\n\n\n\n\nTOUTES CATÉGORIES – CYCLO CROSS DE MEYZIEU samedi 4 novembre 2023 VELO GRIFFON MEYZIEUToutes catégoriesMEYZIEU \n\n\n\nDESCRIPTION  \n\n\n\nCircuit dans le fort de Meyzieu \n\n\n\nELITE ET U23 \n\n\n\nDOSSARDS : 14h00 fort de Meyzieu \n\n\n\nDEPART : 15h30 \n\n\n\nEngagements par internet: https://maj.ffc.fr/maj/ 10 € + 2€ sur place \n\n\n\nGRILLE 274/15 \n\n\n\n \n\n\n\nU19 \n\n\n\nDOSSARDS : 13h00 fort de Meyzieu \n\n\n\nDEPART : 14h00 \n\n\n\nEngagements par internet: https://maj.ffc.fr/maj/ 10 € + 2€ sur place \n\n\n\nGRILLE 91/8 ; femmes 47/5 \n\n\n\n \n\n\n\nU17 \n\n\n\nDOSSARDS : 12h00 fort de Meyzieu \n\n\n\nDEPART : 13h00 \n\n\n\nEngagements par internet: https://maj.ffc.fr/maj/ 7.5 € + 2€ sur place \n\n\n\nGRILLE 47/5 \n\n\n\nU15 \n\n\n\nDOSSARDS : 12h00 fort de Meyzieu \n\n\n\nDEPART : 12h10 \n\n\n\nEngagements par internet: https://maj.ffc.fr/maj/ 7.5 € + 2€ sur place \n\n\n\n  \n\n\n\nECOLE de CYCLISME \n\n\n\nDOSSARDS : 10H00 fort de Meyzieu \n\n\n\nDEPART : 11h00 U7 – 11H15 U9 – 11H30 U11- 11H45 U13 \n\n\n\nEngagements par internet: https://maj.ffc.fr/maj/  
URL:https://www.club-c2s.org/event/cyclocross-de-meyzieu/
END:VEVENT
BEGIN:VEVENT
DTSTART;TZID=Europe/Paris:20231105T080000
DTEND;TZID=Europe/Paris:20231105T170000
DTSTAMP:20260424T161244
CREATED:20231017T081555Z
LAST-MODIFIED:20231017T081557Z
UID:6678-1699171200-1699203600@www.club-c2s.org
SUMMARY:ECOLE DE CYCLISME - CYCLO CROSS DES ABRETS EC dimanche 5 novembre 2023S.C LES ABRETS Ecoles de cyclisme LES ABRETS
DESCRIPTION:https://framadate.org/QYLcmz1xpBV5dUXV \n\n\n\nDESCRIPTION  \n\n\n\nECOLE DE CYCLISME \n\n\n\nEscargots – marches \n\n\n\nDOSSARDS : 08h30 \n\n\n\nDEPART : 09h30
URL:https://www.club-c2s.org/event/ecole-de-cyclisme-cyclo-cross-des-abrets-ec-dimanche-5-novembre-2023s-c-les-abrets-ecoles-de-cyclisme-les-abrets/
END:VEVENT
BEGIN:VEVENT
DTSTART;TZID=Europe/Paris:20231105T080000
DTEND;TZID=Europe/Paris:20231105T170000
DTSTAMP:20260424T161244
CREATED:20231026T103033Z
LAST-MODIFIED:20231026T103034Z
UID:6682-1699171200-1699203600@www.club-c2s.org
SUMMARY:TOUTES CATÉGORIES - CYCLO CROSS DE VALENCE dimanche 5 novembre 2023U.C. MONTMEYRAN VALENCE Toutes catégories VALENCE
DESCRIPTION:https://framadate.org/Xf5IWEZQmJOUEvvg \n\n\n\nDESCRIPTION  \n\n\n\nELITE ET U23 \n\n\n\nCIRCUIT : 2600 M \n\n\n\nDOSSARDS : 14H30 Parc Jean Perdrix chemin de Thabor \n\n\n\nDEPART : 15H30 \n\n\n\nENGAGEMENTS par internet : https://maj.ffc.fr/maj/ 14 € ; sur place + 2 € \n\n\n\nGRILLE 228/05 \n\n\n\nU19 \n\n\n\nCIRCUIT : 2600 M. \n\n\n\nDOSSARDS : 13H20 Parc Jean Perdrix chemin de Thabor \n\n\n\nDEPART : 14H20 \n\n\n\nENGAGEMENTS par internet : https://maj.ffc.fr/maj/  14 € ; sur place + 2 € \n\n\n\nU17 \n\n\n\nCIRCUIT : 2600 M. \n\n\n\nDOSSARDS : 12H00 Parc Jean Perdrix chemin de Thabor \n\n\n\nDEPART : 13H00 \n\n\n\nENGAGEMENTS par internet : https://maj.ffc.fr/maj/  7\,5€ ; sur place  + 2 € \n\n\n\nU15 \n\n\n\nCIRCUIT : 1850 M \n\n\n\nDOSSARDS : 10H50 Parc Jean Perdrix chemin de Thabor \n\n\n\nDEPART : 11H50 \n\n\n\nENGAGEMENTS par internet : https://maj.ffc.fr/maj/  7\,5€ ; sur place  + 2 € \n\n\n\nECOLES DE CYCLISME \n\n\n\nCIRCUIT : 680 ou 1000 M selon loa catégorie  \n\n\n\nDOSSARDS : 09H30 Parc Jean Perdrix chemin de Thabor \n\n\n\nDEPART : 10H30 \n\n\n\nENGAGEMENTS par internet: https://maj.ffc.fr/maj/ 
URL:https://www.club-c2s.org/event/toutes-categories-cyclo-cross-de-valence-dimanche-5-novembre-2023u-c-montmeyran-valence-toutes-categories-valence/
END:VEVENT
BEGIN:VEVENT
DTSTART;TZID=Europe/Paris:20231111T080000
DTEND;TZID=Europe/Paris:20231111T170000
DTSTAMP:20260424T161244
CREATED:20231026T103247Z
LAST-MODIFIED:20231026T103249Z
UID:6684-1699689600-1699722000@www.club-c2s.org
SUMMARY:TOUTES CATÉGORIES - CYCLO-CROSS DE ST QUENTIN FALLAVIER samedi 11 novembre 2023V.C ST QUENTIN FALLAVIER Toutes catégories SAINT QUENTIN FALLAVIER
DESCRIPTION:https://framadate.org/tzBbVNIPwmsLjQQb \n\n\n\nDESCRIPTION  \n\n\n\nECOLE DE CYCLISME \n\n\n\nDOSSARDS : 09h00 \n\n\n\nDEPART : 10h00 et 10H30 \n\n\n\nENGAGEMENTS : https://maj.ffc.fr/maj/ \n\n\n\nU15 \n\n\n\nDOSSARDS : 09h00 \n\n\n\nDEPART : 10h30 \n\n\n\nENGAGEMENTS : https://maj.ffc.fr/maj/ 7.5 € ; sur place + 2 € \n\n\n\nU17 \n\n\n\nDOSSARDS : 09h00 \n\n\n\nDEPART : 10h30 \n\n\n\nENGAGEMENTS : https://maj.ffc.fr/maj/ 7.5 € ; sur place + 2 \n\n\n\nGRILLE 46/5 X 2 \n\n\n\nU19 \n\n\n\nDOSSARDS : 13h00 et +: ICI \n\n\n\nDEPART : 14h00 \n\n\n\nENGAGEMENTS : https://maj.ffc.fr/maj/ 10 € ; sur place + 2 € \n\n\n\nGRILLE 228/15 ; Féminines:170/10 \n\n\n\nELITE ET U23 \n\n\n\nDOSSARDS : 14h00 \n\n\n\nDEPART : 15h00 \n\n\n\nENGAGEMENTS : https://maj.ffc.fr/maj/ 10 € ; sur place + 2 € \n\n\n\nGRILLE:351/15
URL:https://www.club-c2s.org/event/toutes-categories-cyclo-cross-de-st-quentin-fallavier-samedi-11-novembre-2023v-c-st-quentin-fallavier-toutes-categories-saint-quentin-fallavier/
END:VEVENT
BEGIN:VEVENT
DTSTART;TZID=Europe/Paris:20231112T080000
DTEND;TZID=Europe/Paris:20231112T170000
DTSTAMP:20260424T161244
CREATED:20231107T081830Z
LAST-MODIFIED:20231107T081831Z
UID:6687-1699776000-1699808400@www.club-c2s.org
SUMMARY:ECOLE DE CYCLISME - U17 CYCLO CROSS DE SARRAS dimanche 12 novembre 2023SARRAS ST VALLIER CYCLISME Ecoles de cyclisme SARRAS
DESCRIPTION:https://framadate.org/DTKMTmH3hmhA4l4y \n\n\n\n \n\n\n\nDESCRIPTION  \n\n\n\n5EME MANCHE DU TROPHEE DROME ARDECHE \n\n\n\nECOLES DE CYCLISME –  \n\n\n\nDOSSARDS: 11h00 rue neuve \n\n\n\nDEPART: 12H00 Engagements par internet: https://maj.ffc.fr/maj/ \n\n\n\nCONTACT Jean Claude LAFFONT 18 Avenue des Cévennes 07370 SARRAS 06.77.98.03.35email jean-claude.laffont@orange.fr http://ssvcinfo.over-blog.com  \n\n\n\nU17 \n\n\n\nDOSSARDS 13H30 \n\n\n\nDEPART 14H15 \n\n\n\nEngagements par internet: https://maj.ffc.fr/maj/ 7.50 €  \n\n\n\nCONTACT Jean Claude LAFFONT 18 Avenue des Cévennes 07370 SARRAS 06.77.98.03.35email Cette adresse e-mail est protégée contre les robots spammeurs. Vous devez activer le JavaScript pour la visualiser. »>jean-claude.laffont@orange.fr http://ssvcinfo.over-blog.com 
URL:https://www.club-c2s.org/event/ecole-de-cyclisme-u17-cyclo-cross-de-sarras-dimanche-12-novembre-2023sarras-st-vallier-cyclisme-ecoles-de-cyclisme-sarras/
END:VEVENT
BEGIN:VEVENT
DTSTART;TZID=Europe/Paris:20231119T080000
DTEND;TZID=Europe/Paris:20231119T170000
DTSTAMP:20260424T161244
CREATED:20231112T210425Z
LAST-MODIFIED:20231112T210427Z
UID:6689-1700380800-1700413200@www.club-c2s.org
SUMMARY:TOUTES CATEGORIES- CYCLO CROSS DE SEYNOD dimanche 19 novembre 2023 E.S. SEYNOD Toutes catégories SEYNOD
DESCRIPTION:https://framadate.org/obxTrVSyT1hs3uOw \n\n\n\nDESCRIPTION  \n\n\n\nBute St Martin circuit 2.5 Km \n\n\n\ndossards et départ au gymnase Max Decarre \n\n\n\nELITE ET U23 HOMMES  \n\n\n\nDOSSARDS : 13H30   \n\n\n\nDEPART : 14H30   \n\n\n\nEngagements par internet: https://maj.ffc.fr/maj/ 10 € ; sur place + 2 € \n\n\n\nGRILLE 305/10 \n\n\n\nU 19+ ET FEMMES  U19 ET + \n\n\n\nDOSSARDS : 12H00 \n\n\n\nDEPART : 13H00  \n\n\n\nEngagements par internet: https://maj.ffc.fr/maj/ 10 € ; sur place + 2 € \n\n\n\nGRILLE 69/5 X2 femmes lots \n\n\n\nU17 HOMMES ET FEMMES \n\n\n\nDOSSARDS : 10H30 \n\n\n\nDEPART : 11H30 \n\n\n\nEngagements par internet: https://maj.ffc.fr/maj/ 7.5 € sur place + 2€ \n\n\n\nLOTS  \n\n\n\nU 15 HOMMES ET FEMMES \n\n\n\nDOSSARDS : 10H30 \n\n\n\nDEPART : 11H30 \n\n\n\nEngagements par internet: https://maj.ffc.fr/maj/ 7.5 € ; sur place + 2 € \n\n\n\nLOTS \n\n\n\nECOLE DE VELO \n\n\n\nDOSSARDS : 09H00 \n\n\n\nDEPART : 09H30
URL:https://www.club-c2s.org/event/toutes-categories-cyclo-cross-de-seynod-dimanche-19-novembre-2023-e-s-seynod-toutes-categories-seynod/
END:VEVENT
BEGIN:VEVENT
DTSTART;TZID=Europe/Paris:20231125T080000
DTEND;TZID=Europe/Paris:20231125T170000
DTSTAMP:20260424T161244
CREATED:20231112T210707Z
LAST-MODIFIED:20231112T210708Z
UID:6691-1700899200-1700931600@www.club-c2s.org
SUMMARY:TOUTES CATEGORIES - PONTCHARRA (38) - CYCLO-CROSS DE LA MUNICIPALITE samedi 25 novembre 2023 U.C PONTCHARRA Toutes catégories PONTCHARRA
DESCRIPTION:https://framadate.org/TMVdJVuHGA2lQlBC \n\n\n\nDESCRIPTION  \n\n\n\nCircuit dans les bois \, passage vélos portés\, banc de sable. Longueur environ 2.8 Kms  \n\n\n\nECOLE DE CYCLISME \n\n\n\nDossards : 9h00  \n\n\n\nDépart : 10h00 \n\n\n\nEngagements : https://maj.ffc.fr/maj/ \n\n\n\nU15 \n\n\n\nDossards :  \n\n\n\nDépart  \n\n\n\nEngagements : https://maj.ffc.fr/maj/ 7.5 € \n\n\n\nU17 \n\n\n\nDossards : 12h00 \n\n\n\nDépart : 13h00 \n\n\n\nEngagements : https://maj.ffc.fr/maj/ 7.5 € \n\n\n\nGRILLE 47/5 \n\n\n\nU19 \n\n\n\nDossards : 12h00 \n\n\n\nDépart : 14h00 \n\n\n\nEngagements : https://maj.ffc.fr/maj/ 10 € \n\n\n\nGRILLE 91/8 ; femmes 47/5 \n\n\n\nELITE ET U23  \n\n\n\nDossards : 12h00 \n\n\n\nDépart : 15h00 \n\n\n\nEngagements : https://maj.ffc.fr/maj/ 10 € \n\n\n\nGRILLE 259/15
URL:https://www.club-c2s.org/event/toutes-categories-pontcharra-38-cyclo-cross-de-la-municipalite-samedi-25-novembre-2023-u-c-pontcharra-toutes-categories-pontcharra/
END:VEVENT
BEGIN:VEVENT
DTSTART;TZID=Europe/Paris:20231126T080000
DTEND;TZID=Europe/Paris:20231126T170000
DTSTAMP:20260424T161244
CREATED:20231112T210959Z
LAST-MODIFIED:20231112T211000Z
UID:6693-1700985600-1701018000@www.club-c2s.org
SUMMARY:TOUTES CATÉGORIES - CYCLO CROSS DE COGNIN dimanche 26 novembre 2023 CHAMBERY CYCLISME ORGANISATION Toutes catégories COGNIN
DESCRIPTION:https://framadate.org/VPMdOd1YhacGoSKT \n\n\n\nDESCRIPTION  \n\n\n\nELITE ET U23 \n\n\n\nDOSSARDS: 14H00 \n\n\n\nDEPART: 14H45 \n\n\n\nENGAGEMENTS par internet: https://maj.ffc.fr/maj/  9 € \n\n\n\nCONTACT Patrice PION 211 Chemin des Ecureuils 73000 CHAMBERY 06.15.11.26.38 email organisation@chambery-cyclisme.com  \n\n\n\n  \n\n\n\nU19 \n\n\n\nDOSSARDS: 14h00 73160 CogninDEPART: 14H45 \n\n\n\nENGAGEMENTS par internet: https://maj.ffc.fr/maj/  9 € \n\n\n\nCONTACT Patrice PION 211 Chemin des Ecureuils 73000 CHAMBERY 06.15.11.26.38 email Cette adresse e-mail est protégée contre les robots spammeurs. Vous devez activer le JavaScript pour la visualiser. »>organisation@chambery-cyclisme.com \n\n\n\nU17 \n\n\n\nDOSSARDS : 12h30 73160 Cognin \n\n\n\nDEPART : 13h30 \n\n\n\nENGAGEMENTS par internet: https://maj.ffc.fr/maj/ 7\,5€ \n\n\n\nCONTACT Patrice PION 211 Chemin des Ecureuils 73000 CHAMBERY 06.15.11.26.38 email organisation@chambery-cyclisme.com  \n\n\n\nU15 \n\n\n\nDOSSARDS : 12h30 73160 Cognin \n\n\n\nDEPART : 13h30 \n\n\n\nENGAGEMENTS par internet: https://maj.ffc.fr/maj/ 7\,5€ \n\n\n\nCONTACT Patrice PION 211 Chemin des Ecureuils 73000 CHAMBERY 06.15.11.26.38 email Cette adresse e-mail est protégée contre les robots spammeurs. Vous devez activer le JavaScript pour la visualiser. »>organisation@chambery-cyclisme.com  \n\n\n\nECOLES DE CYCLISME \n\n\n\nDOSSARDS : 09H00 73160 Cognin \n\n\n\nDEPART :10H00-10H20 course des U15 EC Championnat de Savoie /10H30-10H45 course des U13 / 10H50-11H00 course des U11/ 11H10 – 11H17 course des U9 et U7 \n\n\n\nEngagements par internet: https://maj.ffc.fr/maj/  \n\n\n\nCONTACT Patrice PION 211 Chemin des Ecureuils 73000 CHAMBERY 06.15.11.26.38 email organisation@chambery-cyclisme.com 
URL:https://www.club-c2s.org/event/toutes-categories-cyclo-cross-de-cognin-dimanche-26-novembre-2023-chambery-cyclisme-organisation-toutes-categories-cognin/
END:VEVENT
END:VCALENDAR