BEGIN:VCALENDAR
VERSION:2.0
PRODID:-//Club-C2S - ECPv6.15.20//NONSGML v1.0//EN
CALSCALE:GREGORIAN
METHOD:PUBLISH
X-WR-CALNAME:Club-C2S
X-ORIGINAL-URL:https://www.club-c2s.org
X-WR-CALDESC:Évènements pour Club-C2S
REFRESH-INTERVAL;VALUE=DURATION:PT1H
X-Robots-Tag:noindex
X-PUBLISHED-TTL:PT1H
BEGIN:VTIMEZONE
TZID:Europe/Paris
BEGIN:DAYLIGHT
TZOFFSETFROM:+0100
TZOFFSETTO:+0200
TZNAME:CEST
DTSTART:20220327T010000
END:DAYLIGHT
BEGIN:STANDARD
TZOFFSETFROM:+0200
TZOFFSETTO:+0100
TZNAME:CET
DTSTART:20221030T010000
END:STANDARD
BEGIN:DAYLIGHT
TZOFFSETFROM:+0100
TZOFFSETTO:+0200
TZNAME:CEST
DTSTART:20230326T010000
END:DAYLIGHT
BEGIN:STANDARD
TZOFFSETFROM:+0200
TZOFFSETTO:+0100
TZNAME:CET
DTSTART:20231029T010000
END:STANDARD
BEGIN:DAYLIGHT
TZOFFSETFROM:+0100
TZOFFSETTO:+0200
TZNAME:CEST
DTSTART:20240331T010000
END:DAYLIGHT
BEGIN:STANDARD
TZOFFSETFROM:+0200
TZOFFSETTO:+0100
TZNAME:CET
DTSTART:20241027T010000
END:STANDARD
END:VTIMEZONE
BEGIN:VEVENT
DTSTART;TZID=Europe/Paris:20230701T080000
DTEND;TZID=Europe/Paris:20230701T170000
DTSTAMP:20260424T102212
CREATED:20230615T113546Z
LAST-MODIFIED:20230615T115610Z
UID:6609-1688198400-1688230800@www.club-c2s.org
SUMMARY:PISTE - ST ETIENNE - PRIX TEAM PISTE ECSEL - 2EME MANCHE COUPE AUVERGNE-RHÔNE-ALPESsamedi 1 juillet 2023E.C. SAINT ETIENNE LOIREA partir de U15SAINT ETIENNE
DESCRIPTION:https://framadate.org/1SBVrTOCabmFug8D \n\n\n\n \n\n\n\nDESCRIPTION  \n\n\n\nOmnium pour chaque catégorie (Scratch-Elimination-Course aux points) \n\n\n\nU15 / U17 / U19-élite / U15-17F / U19-élite F \n\n\n\nAméricaine  \n\n\n\nDépart : 16 € 
URL:https://www.club-c2s.org/event/piste-st-etienne-prix-team-piste-ecsel-2eme-manche-coupe-auvergne-rhone-alpessamedi-1-juillet-2023e-c-saint-etienne-loirea-partir-de-u15saint-etienne/
END:VEVENT
BEGIN:VEVENT
DTSTART;TZID=Europe/Paris:20230702T080000
DTEND;TZID=Europe/Paris:20230702T170000
DTSTAMP:20260424T102212
CREATED:20230615T114014Z
LAST-MODIFIED:20230615T114016Z
UID:6611-1688284800-1688317200@www.club-c2s.org
SUMMARY:GRAND PRIX DES AVENIERES SOUVENIR MARIUS VIAL Ecole de cyclisme - Open1-2-3
DESCRIPTION:https://framadate.org/bdzBzanaIW7UBXh5 \n\n\n\n\n\nECOLE DE CYCLISME – GRAND PRIX DES AVENIERES SOUVENIR MARIUS VIAL dimanche 2 juillet 2023 CHARVIEU CHAVAGNEUX I.C.Ecoles de cyclismeLES AVENIERES \n\n\n\nDOSSARDS : 09h30 école de Buvin \n\n\n\nDEPART : route de buvin 10H30  \n\n\n\nOPEN 1/2/3 – GRAND PRIX DES AVENIERES SOUVENIR MARIUS VIAL dimanche 2 juillet 2023 CHARVIEU CHAVAGNEUX I.C.OPEN 1/2/3LES AVENIERES \n\n\n\nCIRCUIT : 90 km sur 18 tours \n\n\n\nDOSSARDS : 14H00 école de Buvin \n\n\n\nDEPART : 15H15 – route de Buvin
URL:https://www.club-c2s.org/event/grand-prix-des-avenieres-souvenir-marius-vial-ecole-de-cyclisme-open1-2-3/
END:VEVENT
END:VCALENDAR