BEGIN:VCALENDAR
VERSION:2.0
PRODID:-//Club-C2S - ECPv6.15.20//NONSGML v1.0//EN
CALSCALE:GREGORIAN
METHOD:PUBLISH
X-WR-CALNAME:Club-C2S
X-ORIGINAL-URL:https://www.club-c2s.org
X-WR-CALDESC:Évènements pour Club-C2S
REFRESH-INTERVAL;VALUE=DURATION:PT1H
X-Robots-Tag:noindex
X-PUBLISHED-TTL:PT1H
BEGIN:VTIMEZONE
TZID:Europe/Paris
BEGIN:DAYLIGHT
TZOFFSETFROM:+0100
TZOFFSETTO:+0200
TZNAME:CEST
DTSTART:20210328T010000
END:DAYLIGHT
BEGIN:STANDARD
TZOFFSETFROM:+0200
TZOFFSETTO:+0100
TZNAME:CET
DTSTART:20211031T010000
END:STANDARD
BEGIN:DAYLIGHT
TZOFFSETFROM:+0100
TZOFFSETTO:+0200
TZNAME:CEST
DTSTART:20220327T010000
END:DAYLIGHT
BEGIN:STANDARD
TZOFFSETFROM:+0200
TZOFFSETTO:+0100
TZNAME:CET
DTSTART:20221030T010000
END:STANDARD
BEGIN:DAYLIGHT
TZOFFSETFROM:+0100
TZOFFSETTO:+0200
TZNAME:CEST
DTSTART:20230326T010000
END:DAYLIGHT
BEGIN:STANDARD
TZOFFSETFROM:+0200
TZOFFSETTO:+0100
TZNAME:CET
DTSTART:20231029T010000
END:STANDARD
END:VTIMEZONE
BEGIN:VEVENT
DTSTART;TZID=Europe/Paris:20220501T080000
DTEND;TZID=Europe/Paris:20220501T170000
DTSTAMP:20260423T053938
CREATED:20220331T071014Z
LAST-MODIFIED:20220331T071104Z
UID:6059-1651392000-1651424400@www.club-c2s.org
SUMMARY: GRAND PRIX DE FONTAINE Ecole Cyclisme - Cadets - Pass cyclisme
DESCRIPTION:https://framadate.org/1KzofK9HbfZCcgwN \n\n\n\n\n\nEcole de Cyclisme \n\n\n\nCIRCUIT: 1.40km à effectuer selon catégorie ; sprint  \n\n\n\nDOSSARDS: 8h00 parc de la Poya \n\n\n\nDEPART: 9h00 idem \n\n\n\nCadets \n\n\n\nCIRCUIT: 1.5KM X 36 soit 50 km \n\n\n\nDOSSARDS: 12h00 – parc de la Poya \n\n\n\nDEPART: 13h00 – idem \n\n\n\nPass Cyclisme \n\n\n\nCIRCUIT: 1.4 KM X 50 soit 70 km \n\n\n\nDOSSARDS: 14h00 parc de la Poya \n\n\n\nDEPART: 15h00 idem
URL:https://www.club-c2s.org/event/grand-prix-de-fontaine-ecole-cyclisme/
CATEGORIES:Cadets,Catégories,Course,Ecole de cyclisme (Poussins, Pupilles, Benjamins, Minimes),Minimes,Pass Cyclisme,Route,Seniors
END:VEVENT
BEGIN:VEVENT
DTSTART;TZID=Europe/Paris:20220508T120000
DTEND;TZID=Europe/Paris:20220508T120000
DTSTAMP:20260423T053938
CREATED:20220502T070329Z
LAST-MODIFIED:20220502T070330Z
UID:6097-1652011200-1652011200@www.club-c2s.org
SUMMARY:PASS CYCLISME - GRAND PRIX DES INDUSTRIES DE BELLEY dimanche 8 mai 2022U.C. CULOZ/BELLEY Pass'Cyclisme BELLEY
DESCRIPTION:https://framadate.org/PyqPSoNuVCKEARnn \n\n\n\nDESCRIPTION  \n\n\n\nCIRCUIT : 60.700 km sur 10 tours  \n\n\n\nDOSSARDS : 11h45 à 13h00 route de Belley \n\n\n\nDEPART : PC1/2 13h00 ; PC3/4 13h02
URL:https://www.club-c2s.org/event/pass-cyclisme-grand-prix-des-industries-de-belley-dimanche-8-mai-2022u-c-culoz-belley-passcyclisme-belley/
CATEGORIES:Catégories,Course,Pass Cyclisme,Route
END:VEVENT
END:VCALENDAR