BEGIN:VCALENDAR
VERSION:2.0
PRODID:-//Club-C2S - ECPv6.15.20//NONSGML v1.0//EN
CALSCALE:GREGORIAN
METHOD:PUBLISH
X-WR-CALNAME:Club-C2S
X-ORIGINAL-URL:https://www.club-c2s.org
X-WR-CALDESC:Évènements pour Club-C2S
REFRESH-INTERVAL;VALUE=DURATION:PT1H
X-Robots-Tag:noindex
X-PUBLISHED-TTL:PT1H
BEGIN:VTIMEZONE
TZID:Europe/Paris
BEGIN:DAYLIGHT
TZOFFSETFROM:+0100
TZOFFSETTO:+0200
TZNAME:CEST
DTSTART:20210328T010000
END:DAYLIGHT
BEGIN:STANDARD
TZOFFSETFROM:+0200
TZOFFSETTO:+0100
TZNAME:CET
DTSTART:20211031T010000
END:STANDARD
BEGIN:DAYLIGHT
TZOFFSETFROM:+0100
TZOFFSETTO:+0200
TZNAME:CEST
DTSTART:20220327T010000
END:DAYLIGHT
BEGIN:STANDARD
TZOFFSETFROM:+0200
TZOFFSETTO:+0100
TZNAME:CET
DTSTART:20221030T010000
END:STANDARD
BEGIN:DAYLIGHT
TZOFFSETFROM:+0100
TZOFFSETTO:+0200
TZNAME:CEST
DTSTART:20230326T010000
END:DAYLIGHT
BEGIN:STANDARD
TZOFFSETFROM:+0200
TZOFFSETTO:+0100
TZNAME:CET
DTSTART:20231029T010000
END:STANDARD
END:VTIMEZONE
BEGIN:VEVENT
DTSTART;TZID=Europe/Paris:20220306T080000
DTEND;TZID=Europe/Paris:20220306T170000
DTSTAMP:20260423T083719
CREATED:20220222T175935Z
LAST-MODIFIED:20220222T181143Z
UID:5977-1646553600-1646586000@www.club-c2s.org
SUMMARY:La Furette
DESCRIPTION:XC TOUTES CATÉGORIES – RIVES – LA FURETTE dimanche 6 mars 2022 \n\n\n\nU.C RIVESXC Toutes catégoriesRIVES \n\n\n\nDESCRIPTION  \n\n\n\n \n\n\n\nRIVES (38) UC RIVES LA FURETTE VTT XC à partir de Minimes \n\n\n\nDossards Stade du Levatel 12h30 \n\n\n\nDépart 14h00 \n\n\n\nContact : https://ucrives.fr/course-la-furette/ \n\n\n\nEngagements : https://ucrives.fr/engagement-la-furette/
URL:https://www.club-c2s.org/event/5977/
CATEGORIES:Cadets,Course,Espoirs,Juniors,Minimes,Pass Cyclisme,Seniors
END:VEVENT
BEGIN:VEVENT
DTSTART;TZID=Europe/Paris:20220312T000000
DTEND;TZID=Europe/Paris:20220312T235959
DTSTAMP:20260423T083719
CREATED:20220222T183950Z
LAST-MODIFIED:20220222T184209Z
UID:5989-1647043200-1647129599@www.club-c2s.org
SUMMARY:PRIX GERFLOR ST ROMAIN DE POPEY Minimes - Cadets - Juniors - Pass - Seniors
DESCRIPTION:Minimes – Cadets – Juniors – Pass – Seniors \n\n\n\nhttps://doodle.com/poll/aumdgb47ruh3g763?utm_source=poll&utm_medium=link \n\n\n\n\n\n3-J-PASS’OPEN- PRIX GERFLOR ST ROMAIN DE POPEY samedi 12 mars 2022A.C. TARARE/POPEY3-J-Pass’OpenSAINT ROMAIN DE POPEY \n\n\n\nDESCRIPTION  \n\n\n\nCat 3\, Juniors & PCO \n\n\n\nCIRCUIT : 81.6 km sur 16 tours \n\n\n\nDOSSARDS : Route de la Gare à 14H15 \n\n\n\nDEPART : 15h00 \n\n\n\nCadets & femmes JS  \n\n\n\nCIRCUIT : 40.8 km sur 8 tours \n\n\n\nDOSSARDS : Route de la Gare de 10H15  \n\n\n\nDEPART : 11h00  \n\n\n\n \n\n\n\nMinimes \n\n\n\nCIRCUIT : 20.4 km sur 4 tours \n\n\n\nDOSSARDS : 10h15 route de la gare \n\n\n\nDEPART : 11h02
URL:https://www.club-c2s.org/event/prix-gerflor-st-romain-de-popey/
CATEGORIES:Cadets,Course,Minimes,Pass Cyclisme,Route,Seniors
END:VEVENT
BEGIN:VEVENT
DTSTART;TZID=Europe/Paris:20220313T080000
DTEND;TZID=Europe/Paris:20220313T170000
DTSTAMP:20260423T083719
CREATED:20220222T185013Z
LAST-MODIFIED:20220222T185158Z
UID:5994-1647158400-1647190800@www.club-c2s.org
SUMMARY:GRAND PRIX BOURG DE PEAGE 3-J - pass open
DESCRIPTION:https://doodle.com/poll/fssupmww3e345b8u?utm_source=poll&utm_medium=link \n\n\n\n \n\n\n\n \n\n\n\n\n\n3/J – GRAND PRIX BOURG DE PEAGE dimanche 13 mars 2022 V.S. ROMANAIS PEAGEOIS3-J-Pass’OpenBOURG DE PÉAGE \n\n\n\nDESCRIPTION  \n\n\n\n  \n\n\n\nBOURG DE PEAGE -[26] V.S. ROMANAIS PEAGEOIS Cat 3 J PCO \n\n\n\nDISTANCE : 100km sur 8 tours + liaison 10 kms \n\n\n\nDOSSARDS : 12H30 Espace F Mitterand Bourg de Peage   \n\n\n\nDEPART : 14H00 idem
URL:https://www.club-c2s.org/event/grand-prix-bourg-de-peage-3-j-pass-open/
CATEGORIES:Catégories,Course,Juniors,Pass Cyclisme,Route,Seniors
END:VEVENT
BEGIN:VEVENT
DTSTART;TZID=Europe/Paris:20220313T080000
DTEND;TZID=Europe/Paris:20220313T170000
DTSTAMP:20260423T083719
CREATED:20220222T204106Z
LAST-MODIFIED:20220222T204108Z
UID:5998-1647158400-1647190800@www.club-c2s.org
SUMMARY:ST MAURICE DE REMENS Minimes - Cadets - Pass- Pass open 3J
DESCRIPTION:https://doodle.com/poll/c25u8nxq7f8symtb?utm_source=poll&utm_medium=link \n\n\n\n \n\n\n\n\n\nST MAURICE DE REMENS dimanche 13 mars 2022VELO CLUB D’AMBERIEUCadets et Femmes JSST MAURICE DE REMENS https://doodle.com/poll/c25u8nxq7f8symtb?utm_source=poll&utm_medium=link \n\n\n\nDESCRIPTION  \n\n\n\nCadets \n\n\n\nCIRCUIT : 65 kms sur 10 tours \n\n\n\nDOSSARDS : 08h30 à 09h30 chateau de St Maurice \n\n\n\nDEPART : 10h00 \n\n\n\n \n\n\n\nPass cyclisme \n\n\n\nCIRCUIT : PC 1/2 10 tours soit 65kms ; PC 3/4 8 tours soit 52kms \n\n\n\nDOSSARDS : 10h00 à 11h00 chateau St Maurice \n\n\n\nDEPART : PC 1/2 12h00 ; PC 3/4 12h02 \n\n\n\n3/J/PCO – PRIX DE ST MAURICE DE REMENS dimanche 13 mars 2022 VELO CLUB D’AMBERIEU3-J-Pass’OpenST MAURICE DE REMENS \n\n\n\nCIRCUIT : 97.5 kms sur 15 tours \n\n\n\nDOSSARDS : 13H00 chateau de St Maurice \n\n\n\nDEPART : 14h45 \n\n\n\nMINIMES – PRIX DE ST MAURICE DE REMENSdimanche 13 mars 2022VELO CLUB D’AMBERIEUMinimes et Femmes MCST MAURICE DE REMENS \n\n\n\nDESCRIPTION  \n\n\n\nCIRCUIT : 32.5 kms sur 5 tours \n\n\n\nDOSSARDS : 08h30 à 09h30 chateau de St Maurice \n\n\n\nDEPART : 10h02
URL:https://www.club-c2s.org/event/st-maurice-de-remens-minimes-cadets-pass-pass-open-3j/
CATEGORIES:Cadets,Catégories,Course,Juniors,Minimes,Pass Cyclisme,Route,Seniors
END:VEVENT
BEGIN:VEVENT
DTSTART;TZID=Europe/Paris:20220327T080000
DTEND;TZID=Europe/Paris:20220327T170000
DTSTAMP:20260423T083719
CREATED:20220222T210059Z
LAST-MODIFIED:20220222T210101Z
UID:6006-1648368000-1648400400@www.club-c2s.org
SUMMARY:GRAND PRIX DE LA MUNICIPALITE DE VIENNE
DESCRIPTION:https://doodle.com/poll/fuz4mtuthut5hz6q?utm_source=poll&utm_medium=link \n\n\n\n\n\nPASS’CYCLISME – GRAND PRIX DE LA MUNICIPALITE DE VIENNE dimanche 27 mars 2022 CLUB VIENNOIS D’ANIMAT CYPass’CyclismeGEMENS VIENNE \n\n\n\nDESCRIPTION  \n\n\n\nVIENNE [38] CLUB VIENNOIS D’ANIMAT CY Pass’Cyclisme  \n\n\n\nCircuit consultable sur Openrunner N°9531899 soit 65 Km \n\n\n\nDossards à partir de 12H00 salle de Gémens \n\n\n\nDépart 14H15 \n\n\n\n2-3-J – GRAND PRIX DE LA MUNICIPALITE DE VIENNEdimanche 27 mars 2022 CLUB VIENNOIS D’ANIMAT CY2-3-J-Pass’OpenGEMENS VIENNE \n\n\n\nDESCRIPTION  \n\n\n\n  \n\n\n\nVIENNE [38] CLUB VIENNOIS D’ANIMAT CY Cat 2-3\, Juniors & PCO  \n\n\n\nCircuit consultable sur Openrunner N° 9619821  soit 108 Km \n\n\n\nDossards à partir de 12H00 Salle de Gemens   \n\n\n\nDépart 14H00
URL:https://www.club-c2s.org/event/grand-prix-de-la-municipalite-de-vienne/
CATEGORIES:Course,Juniors,Pass Cyclisme,Route,Seniors
END:VEVENT
END:VCALENDAR