BEGIN:VCALENDAR
VERSION:2.0
PRODID:-//Club-C2S - ECPv6.15.20//NONSGML v1.0//EN
CALSCALE:GREGORIAN
METHOD:PUBLISH
X-ORIGINAL-URL:https://www.club-c2s.org
X-WR-CALDESC:Évènements pour Club-C2S
REFRESH-INTERVAL;VALUE=DURATION:PT1H
X-Robots-Tag:noindex
X-PUBLISHED-TTL:PT1H
BEGIN:VTIMEZONE
TZID:Europe/Paris
BEGIN:DAYLIGHT
TZOFFSETFROM:+0100
TZOFFSETTO:+0200
TZNAME:CEST
DTSTART:20210328T010000
END:DAYLIGHT
BEGIN:STANDARD
TZOFFSETFROM:+0200
TZOFFSETTO:+0100
TZNAME:CET
DTSTART:20211031T010000
END:STANDARD
BEGIN:DAYLIGHT
TZOFFSETFROM:+0100
TZOFFSETTO:+0200
TZNAME:CEST
DTSTART:20220327T010000
END:DAYLIGHT
BEGIN:STANDARD
TZOFFSETFROM:+0200
TZOFFSETTO:+0100
TZNAME:CET
DTSTART:20221030T010000
END:STANDARD
BEGIN:DAYLIGHT
TZOFFSETFROM:+0100
TZOFFSETTO:+0200
TZNAME:CEST
DTSTART:20230326T010000
END:DAYLIGHT
BEGIN:STANDARD
TZOFFSETFROM:+0200
TZOFFSETTO:+0100
TZNAME:CET
DTSTART:20231029T010000
END:STANDARD
END:VTIMEZONE
BEGIN:VEVENT
DTSTART;TZID=Europe/Paris:20220116T080000
DTEND;TZID=Europe/Paris:20220116T170000
DTSTAMP:20260423T120122
CREATED:20211230T195436Z
LAST-MODIFIED:20220119T201009Z
UID:5596-1642320000-1642352400@www.club-c2s.org
SUMMARY:Cyclocross du Raclet
DESCRIPTION:TOUTES CATÉGORIES – CYCLO CROSS DU RACLET \ndimanche 16 janvier 2022Toutes catégories\nSAINT BERON LE RACLET\n\n\n\nDESCRIPTION  \n\n\n\n  \nECOLE DE CYCLISME  \nDOSSARDS : hameau du Raclet de 11h00 \nDEPART : idem 12h00 \nCONTACT : ec.stclairoise@gmail.com tel 0625077357 \nhttps://doodle.com/poll/p2qr69hzgiv6pd3a?utm_source=poll&utm_medium=link \nCADETS JUNIORS FEMMES SENIORS \nDOSSARDS : hameau du Raclet 14h00 \nDEPART : idem 15h00 \nENGAGEMENTS : https://maj.ffc.fr/maj/  cadets 7.5 € ; juniors femmes seniors 9 €  \nGRILLE 5 prix natures pour les cadets ; juniors 91/5 ; femmes 91/5 ; seniors 305/15 \nhttps://doodle.com/poll/p2qr69hzgiv6pd3a?utm_source=poll&utm_medium=link
URL:https://www.club-c2s.org/event/cyclo-cross-du-raclet/
LOCATION:SAINT BERON – Le Raclet\, Le Raclet\, SAINT BERON\, 73520\, France
CATEGORIES:Cadets,Catégories,Cyclo-Cross,Ecole de cyclisme (Poussins, Pupilles, Benjamins, Minimes),Espoirs,Juniors,Pass Cyclisme
ORGANIZER;CN="%C3%89toile Cycliste Saint Clairoise":MAILTO:ec.stclairoise@gmail.com
END:VEVENT
END:VCALENDAR