BEGIN:VCALENDAR
VERSION:2.0
PRODID:-//Club-C2S - ECPv6.15.20//NONSGML v1.0//EN
CALSCALE:GREGORIAN
METHOD:PUBLISH
X-WR-CALNAME:Club-C2S
X-ORIGINAL-URL:https://www.club-c2s.org
X-WR-CALDESC:Évènements pour Club-C2S
REFRESH-INTERVAL;VALUE=DURATION:PT1H
X-Robots-Tag:noindex
X-PUBLISHED-TTL:PT1H
BEGIN:VTIMEZONE
TZID:Europe/Paris
BEGIN:DAYLIGHT
TZOFFSETFROM:+0100
TZOFFSETTO:+0200
TZNAME:CEST
DTSTART:20200329T010000
END:DAYLIGHT
BEGIN:STANDARD
TZOFFSETFROM:+0200
TZOFFSETTO:+0100
TZNAME:CET
DTSTART:20201025T010000
END:STANDARD
BEGIN:DAYLIGHT
TZOFFSETFROM:+0100
TZOFFSETTO:+0200
TZNAME:CEST
DTSTART:20210328T010000
END:DAYLIGHT
BEGIN:STANDARD
TZOFFSETFROM:+0200
TZOFFSETTO:+0100
TZNAME:CET
DTSTART:20211031T010000
END:STANDARD
BEGIN:DAYLIGHT
TZOFFSETFROM:+0100
TZOFFSETTO:+0200
TZNAME:CEST
DTSTART:20220327T010000
END:DAYLIGHT
BEGIN:STANDARD
TZOFFSETFROM:+0200
TZOFFSETTO:+0100
TZNAME:CET
DTSTART:20221030T010000
END:STANDARD
END:VTIMEZONE
BEGIN:VEVENT
DTSTART;TZID=Europe/Paris:20211205T080000
DTEND;TZID=Europe/Paris:20211205T170000
DTSTAMP:20260423T134427
CREATED:20211115T074459Z
LAST-MODIFIED:20211115T105126Z
UID:5350-1638691200-1638723600@www.club-c2s.org
SUMMARY:Championnat AURA cyclocross
DESCRIPTION:TOUTES CATEGORIES – CHAMPIONNAT AUVERGNE-RHÔNE-ALPES CYCLO-CROSS – MONTREVEL EN BRESSE\n \ndimanche 5 décembre 2021\n\n\n\nDESCRIPTION\n\n\n\nPlaine Tonique Montrevel en Bresse \nDossards : le 04/12/2021 15h00 à 18h00 ; le 05/12/2021 à partir de 8h00 \nPas d’engagements sur place \n  \nChampionnat Auvergne-Rhône-Alpes   \nEngagements : cadets cadettes 7.5 € ; juniors 10 € ; femmes JS espoirs seniors masters  10 € \nDépart : Juniors H : 11h00 ; Cadets H : 10h00 ; Espoirs H : 12h45 ; Femmes  : 14h00 ; Cadettes : 14h02 ; Seniors – Master H : 15h15 \n  \nGRILLE DE PRIX : cadets 91/5 ; cadettes 91/5 ; juniors 152/10 ; espoirs 183/10 ; femmes JS 274/15 ; seniors masters hommes 274/15 \nhttps://doodle.com/poll/qmcws3x8r4nf5ipx?utm_source=poll&utm_medium=link
URL:https://www.club-c2s.org/event/championnat-aura-cyclocross/
LOCATION:MONTREVEL EN BRESSE – Plaine tonique\, La Plaine Tonique\, Montrevel-en-Bresse\, 01340\, France
CATEGORIES:Cadets,Course,Cyclo-Cross,Espoirs,Juniors,Pass Cyclisme,Seniors
ORGANIZER;CN="SDC01 - ST DENIS CYCLISME":MAILTO:saintdeniscyclisme@hotmail.fr
END:VEVENT
BEGIN:VEVENT
DTSTART;TZID=Europe/Paris:20211211T080000
DTEND;TZID=Europe/Paris:20211211T170000
DTSTAMP:20260423T134427
CREATED:20211129T141911Z
LAST-MODIFIED:20211204T203140Z
UID:5550-1639209600-1639242000@www.club-c2s.org
SUMMARY:Cyclocross St Clair du Rhone
DESCRIPTION:TOUTES CATÉGORIES – CYCLO CROSS DE ST CLAIR DU RHONE \nsamedi 11 décembre 2021Toutes catégories\nSAINT CLAIR DU RHÔNE\n\n\n\nDESCRIPTION  \n\n\n\n  \nSTADE DE VARAMBON \nECOLE DE CYCLISME\n   DOSSARDS : 15H30\n   DEPART : 16H30\n   ENGAGEMENTS : https://maj.ffc.fr/maj/  \n   https://doodle.com/poll/7su8rdbgfaqk7xq8?utm_source=poll&utm_medium=link \nCADETS\n   DOSSARDS : 17H15\n   DEPART : 18H15\n   ENGAGEMENTS : https://maj.ffc.fr/maj/ 7.5 €\n   GRILLE 47/5 \n   https://doodle.com/poll/7su8rdbgfaqk7xq8?utm_source=poll&utm_medium=link \nJUNIORS\n   DOSSARDS : 17h15\n   DEPART : 18h15\n   ENGAGEMENTS : https://maj.ffc.fr/maj/ 8.5 €\n   GRILLE 91/10\n   https://doodle.com/poll/7su8rdbgfaqk7xq8?utm_source=poll&utm_medium=link \nSENIORS \n   DOSSARDS : 19h00\n   DEPART : 19h45\n   ENGAGEMENTS : https://maj.ffc.fr/maj/ 9 €\n   https://doodle.com/poll/7su8rdbgfaqk7xq8?utm_source=poll&utm_medium=link
URL:https://www.club-c2s.org/event/cyclocross-st-clair-du-rhone/
LOCATION:ST CLAIR DU RHÔNE – Stade de Varambon\, Stade de Varambon\, St Clair du Rhone\, 38370\, France
CATEGORIES:Cadets,Cyclo-Cross,Ecole de cyclisme (Poussins, Pupilles, Benjamins, Minimes),Espoirs,Juniors,Pass Cyclisme
ORGANIZER;CN="VC Rhodanien":MAILTO:marien-eydant@live.fr
END:VEVENT
END:VCALENDAR