BEGIN:VCALENDAR
VERSION:2.0
PRODID:-//Club-C2S - ECPv6.15.20//NONSGML v1.0//EN
CALSCALE:GREGORIAN
METHOD:PUBLISH
X-ORIGINAL-URL:https://www.club-c2s.org
X-WR-CALDESC:Évènements pour Club-C2S
REFRESH-INTERVAL;VALUE=DURATION:PT1H
X-Robots-Tag:noindex
X-PUBLISHED-TTL:PT1H
BEGIN:VTIMEZONE
TZID:Europe/Paris
BEGIN:DAYLIGHT
TZOFFSETFROM:+0100
TZOFFSETTO:+0200
TZNAME:CEST
DTSTART:20230326T010000
END:DAYLIGHT
BEGIN:STANDARD
TZOFFSETFROM:+0200
TZOFFSETTO:+0100
TZNAME:CET
DTSTART:20231029T010000
END:STANDARD
BEGIN:DAYLIGHT
TZOFFSETFROM:+0100
TZOFFSETTO:+0200
TZNAME:CEST
DTSTART:20240331T010000
END:DAYLIGHT
BEGIN:STANDARD
TZOFFSETFROM:+0200
TZOFFSETTO:+0100
TZNAME:CET
DTSTART:20241027T010000
END:STANDARD
BEGIN:DAYLIGHT
TZOFFSETFROM:+0100
TZOFFSETTO:+0200
TZNAME:CEST
DTSTART:20250330T010000
END:DAYLIGHT
BEGIN:STANDARD
TZOFFSETFROM:+0200
TZOFFSETTO:+0100
TZNAME:CET
DTSTART:20251026T010000
END:STANDARD
END:VTIMEZONE
BEGIN:VEVENT
DTSTART;TZID=Europe/Paris:20241101T080000
DTEND;TZID=Europe/Paris:20241101T170000
DTSTAMP:20260422T135625
CREATED:20241001T060000Z
LAST-MODIFIED:20241005T182145Z
UID:7091-1730448000-1730480400@www.club-c2s.org
SUMMARY:Toutes catégories - BELLEVILLE - CYCLO CROSS DU LAC DES SABLONS vendredi 1 novembre 2024U.C. BELLEVILLOISE Toutes catégories BELLEVILLE
DESCRIPTION:https://framadate.org/U75KUXJt8cZU5bES \n\n\n\nDescription  \n\n\n\nINFORMATIONS ET RESULTATS \n\n\n\nEPREUVE TROPHEE TERRITORIAL 01.26.38.69.73.74 \n\n\n\nELITE ET U23 \n\n\n\nCIRCUIT autour du lac selon catégorie \n\n\n\nDOSSARDS: 14H15DEPART: 15H15 \n\n\n\nENGAGEMENTS : site https://club.ffc.fr/ 10 €  \n\n\n\nGRILLE 274/15 \n\n\n\n \n\n\n\nU19+FEMMES \n\n\n\nCIRCUIT autour du lac selon catégorie \n\n\n\nDOSSARDS: 12H45 DEPART: 13H45  \n\n\n\nENGAGEMENTS : site https://club.ffc.fr/ 10 €  \n\n\n\nGRILLE N°91/8 \n\n\n\n  \n\n\n\nU 17 \n\n\n\nDOSSARDS: 11H15DEPART: 12H15 \n\n\n\nENGAGEMENTS : site https://club.ffc.fr/ 7.5 €  \n\n\n\nU 15 \n\n\n\nDOSSARDS: 10H30 DEPART: 11H30  \n\n\n\nENGAGEMENTS : site https://club.ffc.fr/ 7.5 €  \n\n\n\n \n\n\n\nECOLES DE CYCLISME. \n\n\n\nDOSSARDS: 9H30  \n\n\n\nDEPART: 10H30 ENGAGEMENTS : site https://club.ffc.fr/ \n\n\n\nCONTACT didier.monternot1@orange.fr  06.70.08.88.00
URL:https://www.club-c2s.org/event/toutes-categories-belleville-cyclo-cross-du-lac-des-sablons-vendredi-1-novembre-2024u-c-bellevilloise-toutes-categories-belleville/
CATEGORIES:Ecole de cyclisme (Poussins, Pupilles, Benjamins, Minimes)
END:VEVENT
END:VCALENDAR