BEGIN:VCALENDAR
VERSION:2.0
PRODID:-//Club-C2S - ECPv6.15.20//NONSGML v1.0//EN
CALSCALE:GREGORIAN
METHOD:PUBLISH
X-ORIGINAL-URL:https://www.club-c2s.org
X-WR-CALDESC:Évènements pour Club-C2S
REFRESH-INTERVAL;VALUE=DURATION:PT1H
X-Robots-Tag:noindex
X-PUBLISHED-TTL:PT1H
BEGIN:VTIMEZONE
TZID:Europe/Paris
BEGIN:DAYLIGHT
TZOFFSETFROM:+0100
TZOFFSETTO:+0200
TZNAME:CEST
DTSTART:20210328T010000
END:DAYLIGHT
BEGIN:STANDARD
TZOFFSETFROM:+0200
TZOFFSETTO:+0100
TZNAME:CET
DTSTART:20211031T010000
END:STANDARD
BEGIN:DAYLIGHT
TZOFFSETFROM:+0100
TZOFFSETTO:+0200
TZNAME:CEST
DTSTART:20220327T010000
END:DAYLIGHT
BEGIN:STANDARD
TZOFFSETFROM:+0200
TZOFFSETTO:+0100
TZNAME:CET
DTSTART:20221030T010000
END:STANDARD
BEGIN:DAYLIGHT
TZOFFSETFROM:+0100
TZOFFSETTO:+0200
TZNAME:CEST
DTSTART:20230326T010000
END:DAYLIGHT
BEGIN:STANDARD
TZOFFSETFROM:+0200
TZOFFSETTO:+0100
TZNAME:CET
DTSTART:20231029T010000
END:STANDARD
END:VTIMEZONE
BEGIN:VEVENT
DTSTART;TZID=Europe/Paris:20220911T080000
DTEND;TZID=Europe/Paris:20220911T170000
DTSTAMP:20260424T111941
CREATED:20220822T112936Z
LAST-MODIFIED:20220822T112937Z
UID:6258-1662883200-1662915600@www.club-c2s.org
SUMMARY:Ardoix Ecoles de cyclisme (pupilles et benjamins) - Minimes- Cadets
DESCRIPTION:https://framadate.org/vaZiYuw3zJTbAcAw \n\n\n\n\n\nPUPILLES & BENJAMINS seulement \n\n\n\nDOSSARDS : 12H30 à 13h rue du bicentenaireDEPART : benjamin 13h15 pour 3x 5 km soit 15 km ; pupille 13h17 pour 10 km \n\n\n\nMinimes ouvert aux dames M/C \n\n\n\nCIRCUIT : 9km X 3 tours DISTANCE: 27km \n\n\n\nDOSSARDS : de 13h15 à 14h00 rue du bicentenaire \n\n\n\nDEPART : 14h15 \n\n\n\nCadets Ouvert aux dames J/S \n\n\n\nCIRCUIT : 9km X 6 tours DISTANCE: 54km \n\n\n\nDOSSARDS : de 13h30 à 14h15 rue du bicentenaire \n\n\n\nDEPART : 14h25
URL:https://www.club-c2s.org/event/ardoix-ecoles-de-cyclisme-pupilles-et-benjamins-minimes-cadets/
CATEGORIES:Cadets,Course,Ecole de cyclisme (Poussins, Pupilles, Benjamins, Minimes)
END:VEVENT
BEGIN:VEVENT
DTSTART;TZID=Europe/Paris:20220918T080000
DTEND;TZID=Europe/Paris:20220918T170000
DTSTAMP:20260424T111941
CREATED:20220822T114146Z
LAST-MODIFIED:20220822T114147Z
UID:6262-1663488000-1663520400@www.club-c2s.org
SUMMARY:Pont de Cheruy Cyclocross Toutes catégories
DESCRIPTION:https://framadate.org/P859PYITrxNIHFjm \n\n\n\n\n\nSeniors \n\n\n\nDOSSARDS: Parc du château Grammond rue du Travail  14H30 ; \n\n\n\nDEPART: idem 15H30 ;   \n\n\n\nEngagements par internet: https://maj.ffc.fr/maj/  10 € ; sur place + 2 € \n\n\n\nGRILLE 335/15 \n\n\n\nJuniors  + Féminines \n\n\n\nDOSSARDS: Parc du château Grammond rue du Travail  13H15 ; \n\n\n\nDEPART: idem 14H15 ;   \n\n\n\nEngagements par internet: https://maj.ffc.fr/maj/  10 € ; sur place + 2 € \n\n\n\nGRILLE 183/10  GRILLE Féminine 91/5  \n\n\n\nCadets + Féminines \n\n\n\nDOSSARDS: Parc du château Grammond rue du Travail  12H30 ; \n\n\n\nDEPART: idem 13H30 ;   \n\n\n\nEngagements par internet: https://maj.ffc.fr/maj/  7\,5€ ; sur place + 2€ \n\n\n\nGRILLE 91/5 Féminine 47/5  \n\n\n\nEcole de Cyclisme \n\n\n\nDOSSARDS: Parc du château Grammond rue du Travail  11H00 ; \n\n\n\nDEPART: idem 12H00 ;   \n\n\n\nEngagements par internet: https://maj.ffc.fr/maj/ 
URL:https://www.club-c2s.org/event/pont-de-cheruy-cyclocross-toutes-categories/
CATEGORIES:Cadets,Catégories,Cyclo-Cross,Ecole de cyclisme (Poussins, Pupilles, Benjamins, Minimes),Espoirs,Juniors,Minimes,Pass Cyclisme,Seniors
END:VEVENT
END:VCALENDAR